BEGIN:VCALENDAR
VERSION:2.0
PRODID:-//The Church @ Highland Park - ECPv6.15.20//NONSGML v1.0//EN
CALSCALE:GREGORIAN
METHOD:PUBLISH
X-WR-CALNAME:The Church @ Highland Park
X-ORIGINAL-URL:https://thechurchathp.org
X-WR-CALDESC:Events for The Church @ Highland Park
REFRESH-INTERVAL;VALUE=DURATION:PT1H
X-Robots-Tag:noindex
X-PUBLISHED-TTL:PT1H
BEGIN:VTIMEZONE
TZID:America/Chicago
BEGIN:DAYLIGHT
TZOFFSETFROM:-0600
TZOFFSETTO:-0500
TZNAME:CDT
DTSTART:20200308T080000
END:DAYLIGHT
BEGIN:STANDARD
TZOFFSETFROM:-0500
TZOFFSETTO:-0600
TZNAME:CST
DTSTART:20201101T070000
END:STANDARD
BEGIN:DAYLIGHT
TZOFFSETFROM:-0600
TZOFFSETTO:-0500
TZNAME:CDT
DTSTART:20210314T080000
END:DAYLIGHT
BEGIN:STANDARD
TZOFFSETFROM:-0500
TZOFFSETTO:-0600
TZNAME:CST
DTSTART:20211107T070000
END:STANDARD
BEGIN:DAYLIGHT
TZOFFSETFROM:-0600
TZOFFSETTO:-0500
TZNAME:CDT
DTSTART:20220313T080000
END:DAYLIGHT
BEGIN:STANDARD
TZOFFSETFROM:-0500
TZOFFSETTO:-0600
TZNAME:CST
DTSTART:20221106T070000
END:STANDARD
END:VTIMEZONE
BEGIN:VEVENT
DTSTART;TZID=America/Chicago:20210606T170000
DTEND;TZID=America/Chicago:20210606T180000
DTSTAMP:20260423T034448
CREATED:20210605T192513Z
LAST-MODIFIED:20210605T192513Z
UID:15283-1622998800-1623002400@thechurchathp.org
SUMMARY:Adult Sunday School on Zoom
DESCRIPTION:On June 13\, the group will meet later in the evening at 5:00 p.m. on Zoom. This week will be a Book Club Setting to share any recommended recent (or past) spiritual\, meaningful\, or just enjoyable books with the group.  We will also continue with our study of Ephesians.
URL:https://thechurchathp.org/event/adult-sunday-school-on-zoom-2/
LOCATION:Zoom
CATEGORIES:Adult
ATTACH;FMTTYPE=image/jpeg:https://thechurchathp.org/wp-content/uploads/2021/06/Sunday-School-Happy-Hour.jpg
END:VEVENT
BEGIN:VEVENT
DTSTART;TZID=America/Chicago:20210523T083000
DTEND;TZID=America/Chicago:20210523T103000
DTSTAMP:20260423T034448
CREATED:20210517T162258Z
LAST-MODIFIED:20210517T190821Z
UID:15239-1621758600-1621765800@thechurchathp.org
SUMMARY:Adult Sunday School on Zoom
DESCRIPTION:The Adult Sunday School classes are currently consolidated into one class and meeting on Zoom. Walt Shelton leads the class. In May\, the class is studying a unit on the book of Ephesians. Please contact info@thechurchathp.org if you have questions or want to get connected.
URL:https://thechurchathp.org/event/adult-sunday-school-on-zoom/
LOCATION:Zoom
CATEGORIES:Adult
ATTACH;FMTTYPE=image/png:https://thechurchathp.org/wp-content/uploads/2021/04/Adult-Sunday-School-on-Zoom.png
END:VEVENT
BEGIN:VEVENT
DTSTART;TZID=America/Chicago:20210516T090000
DTEND;TZID=America/Chicago:20210516T100000
DTSTAMP:20260423T034448
CREATED:20210501T023449Z
LAST-MODIFIED:20210501T023449Z
UID:15129-1621155600-1621159200@thechurchathp.org
SUMMARY:Adult Sunday School
DESCRIPTION:The Adult Sunday School classes are currently consolidated into one class and meeting on Zoom. Walt Shelton leads the class. In May\, the class is studying a unit on the book of Ephesians. Please contact info@thechurchathp.org if you have questions or want to get connected.
URL:https://thechurchathp.org/event/adult-sunday-school-7/
LOCATION:Zoom
CATEGORIES:Adult,Multi-Generational
END:VEVENT
BEGIN:VEVENT
DTSTART;TZID=America/Chicago:20210515T100000
DTEND;TZID=America/Chicago:20210515T233000
DTSTAMP:20260423T034448
CREATED:20210422T184326Z
LAST-MODIFIED:20210422T184326Z
UID:15104-1621072800-1621121400@thechurchathp.org
SUMMARY:Saturday Book Club
DESCRIPTION:All interested readers are welcome to join on the 3rd Saturday of each month on our back patio for that month’s book discussion. The group will meet on May 15 at 10:00 a.m. to discuss “Triple Jeopardy” by Anne Perry.
URL:https://thechurchathp.org/event/saturday-book-club-3/
LOCATION:The Church at Highland Park\, 5206 Balcones Dri.ve\, Austin\, TX\, 78731\, United States
CATEGORIES:Adult
ATTACH;FMTTYPE=image/jpeg:https://thechurchathp.org/wp-content/uploads/2021/04/514-ANpwJLL._SL210_.jpg
END:VEVENT
BEGIN:VEVENT
DTSTART;TZID=America/Chicago:20210503T180000
DTEND;TZID=America/Chicago:20210503T190000
DTSTAMP:20260423T034448
CREATED:20210403T032811Z
LAST-MODIFIED:20210403T032811Z
UID:15046-1620064800-1620068400@thechurchathp.org
SUMMARY:Monday Night Book Club
DESCRIPTION:The Monday Night book group is currently meeting online over Zoom at 6:00 p.m. on the first Monday of each month. The group will discuss The Warmth of Other Suns by Isabel Wilkerson on May 3. Contact info@thechurchathp.org if you would like to join the meeting. All are invited and welcome. 
URL:https://thechurchathp.org/event/monday-night-book-club-2/
LOCATION:Zoom
CATEGORIES:Adult
ATTACH;FMTTYPE=image/jpeg:https://thechurchathp.org/wp-content/uploads/2021/04/A1pa5OFqWEL.jpg
END:VEVENT
BEGIN:VEVENT
DTSTART;TZID=America/Chicago:20210429T173000
DTEND;TZID=America/Chicago:20210429T183000
DTSTAMP:20260423T034448
CREATED:20210302T211530Z
LAST-MODIFIED:20210302T211530Z
UID:14938-1619717400-1619721000@thechurchathp.org
SUMMARY:Cultural Transformation Class
DESCRIPTION:​​Author\, educator\, and long-time member of The Church at Highland Park\, Walt Shelton\, is leading a 6-week discussion group on portions of his book\, The Daily Practice of Life: Practical Reflections Toward Meaningful Living (CrossLink 2020). This discussion\, titled “Cultural Transformation: An Open Discussion of Respect\, Inclusiveness\, Racial Harmony\, and the Pursuit of Justice” will meet from 5:30 to 6:30 p.m. on Thursday evenings from March 25 through April 29 Central Time.  Visit the Cultural Transformation Class page for additional information and opportunities to register and get a signed copy of the book.
URL:https://thechurchathp.org/event/cultural-transformation-class-4/
CATEGORIES:Adult
ATTACH;FMTTYPE=image/png:https://thechurchathp.org/wp-content/uploads/2021/03/Cultural-Transformation-invite_draft-3.png
END:VEVENT
BEGIN:VEVENT
DTSTART;TZID=America/Chicago:20210428T170000
DTEND;TZID=America/Chicago:20210428T180000
DTSTAMP:20260423T034448
CREATED:20210422T183512Z
LAST-MODIFIED:20210422T183512Z
UID:15102-1619629200-1619632800@thechurchathp.org
SUMMARY:Quarterly Church Conference
DESCRIPTION:All church members are encouraged to join us on Zoom as able on Wednesday\, April 28 at 5:00 p.m. as the Nominating Committee presents their recommended slate for the 2021-2022 Church Council\, and other church business.
URL:https://thechurchathp.org/event/quarterly-church-conference/
LOCATION:Zoom
CATEGORIES:Adult
ATTACH;FMTTYPE=image/jpeg:https://thechurchathp.org/wp-content/uploads/2021/04/Rowenston-Elementary-School.jpg
END:VEVENT
BEGIN:VEVENT
DTSTART;TZID=America/Chicago:20210425T143000
DTEND;TZID=America/Chicago:20210425T170000
DTSTAMP:20260423T034448
CREATED:20201119T042049Z
LAST-MODIFIED:20210403T031906Z
UID:11900-1619361000-1619370000@thechurchathp.org
SUMMARY:Micah 6 Drop-In Meal
DESCRIPTION:The Church at Highland Park will provide dinner for the Micah 6 Youth Drop In Center on April 25. We will follow the COVID-19 protocols as outlined by the Center to prepare and either drop-off or serve the meal to the 15-30 street dependent persons who come to this weekly meal. \nAt this time we are asking for: \n\nVolunteers to prepare food. We plan to do a meal for 30 people with a meat entree\, green vegetable\, salad\, bread\, and dessert.\nDonations toward the meal. If you’re not in a place where you can prepare or deliver food\, but you would like to contribute to the effort\, email office@thechurchathp.org\nAlana Mallard is willing to have her house be the drop-off and pick-up point again. This has worked well in the past and folks love seeing one another and visiting\, socially-distant with masks.\nMichelle Poncik\, our board rep at Micah 6\, is heading this effort for the meal on April 25th. Please text her to volunteer.
URL:https://thechurchathp.org/event/micah-6-drop-in-meal-2/
CATEGORIES:Adult
ATTACH;FMTTYPE=image/jpeg:https://thechurchathp.org/wp-content/uploads/2020/11/IMG_0041-1-scaled.jpg
END:VEVENT
BEGIN:VEVENT
DTSTART;TZID=America/Chicago:20210425T090000
DTEND;TZID=America/Chicago:20210425T100000
DTSTAMP:20260423T034448
CREATED:20210403T032504Z
LAST-MODIFIED:20210403T185032Z
UID:15044-1619341200-1619344800@thechurchathp.org
SUMMARY:Adult Sunday School
DESCRIPTION:The Adult Sunday School is taught by Walt Shelton on Zoom\, each Sunday at 9:00 a.m. During the month of April\, the class is studying the Easter narratives of each Gospel book. For April 25\, the class will look at John 21 and then wrap up the Easter Unit. Zoom links are sent out on weekly church emails. Please contact the office at office@thechurchathp.org if you’d like to be connected.
URL:https://thechurchathp.org/event/adult-sunday-school-4/
LOCATION:Zoom
CATEGORIES:Adult
ATTACH;FMTTYPE=image/png:https://thechurchathp.org/wp-content/uploads/2021/04/Adult-Sunday-School-on-Zoom.png
END:VEVENT
BEGIN:VEVENT
DTSTART;TZID=America/Chicago:20210422T173000
DTEND;TZID=America/Chicago:20210422T183000
DTSTAMP:20260423T034448
CREATED:20210302T211439Z
LAST-MODIFIED:20210302T211439Z
UID:14936-1619112600-1619116200@thechurchathp.org
SUMMARY:Cultural Transformation Class
DESCRIPTION:​​Author\, educator\, and long-time member of The Church at Highland Park\, Walt Shelton\, is leading a 6-week discussion group on portions of his book\, The Daily Practice of Life: Practical Reflections Toward Meaningful Living (CrossLink 2020). This discussion\, titled “Cultural Transformation: An Open Discussion of Respect\, Inclusiveness\, Racial Harmony\, and the Pursuit of Justice” will meet from 5:30 to 6:30 p.m. on Thursday evenings from March 25 through April 29 Central Time.  Visit the Cultural Transformation Class page for additional information and opportunities to register and get a signed copy of the book.
URL:https://thechurchathp.org/event/cultural-transformation-class-5/
CATEGORIES:Adult
ATTACH;FMTTYPE=image/png:https://thechurchathp.org/wp-content/uploads/2021/03/Cultural-Transformation-invite_draft-3.png
END:VEVENT
BEGIN:VEVENT
DTSTART;TZID=America/Chicago:20210418T090000
DTEND;TZID=America/Chicago:20210418T100000
DTSTAMP:20260423T034448
CREATED:20210403T032403Z
LAST-MODIFIED:20210403T185120Z
UID:15042-1618736400-1618740000@thechurchathp.org
SUMMARY:Adult Sunday School
DESCRIPTION:The Adult Sunday School is taught by Walt Shelton on Zoom\, each Sunday at 9:00 a.m. During the month of April\, the class is studying the Easter narratives of each Gospel book. For April 18\, the focus is John 20. Zoom links are sent out on weekly church emails. Please contact the office at office@thechurchathp.org if you’d like to be connected.
URL:https://thechurchathp.org/event/adult-sunday-school-3/
CATEGORIES:Adult
ATTACH;FMTTYPE=image/png:https://thechurchathp.org/wp-content/uploads/2021/04/Adult-Sunday-School-on-Zoom.png
END:VEVENT
BEGIN:VEVENT
DTSTART;TZID=America/Chicago:20210417T100000
DTEND;TZID=America/Chicago:20210417T110000
DTSTAMP:20260423T034448
CREATED:20210403T013825Z
LAST-MODIFIED:20210403T013825Z
UID:15021-1618653600-1618657200@thechurchathp.org
SUMMARY:Saturday Book Club
DESCRIPTION:The Saturday Book Club is currently meeting in-person\, masked and socially-distant on the back patio on the 3rd Saturday of each month. The book for April is Hotel on the Corner of Bitter and Sweet by Jamie Ford. Any interested readers are welcome and please contact Alana Mallard so the group can be aware of numbers. View the Saturday Book Club page for further information.
URL:https://thechurchathp.org/event/saturday-book-club-2/
LOCATION:The Church at Highland Park\, 5206 Balcones Dri.ve\, Austin\, TX\, 78731\, United States
CATEGORIES:Adult
ATTACH;FMTTYPE=image/jpeg:https://thechurchathp.org/wp-content/uploads/2021/04/A9B24857-03F0-434A-9DB0-265CAD9FBC26Img100.jpg
END:VEVENT
BEGIN:VEVENT
DTSTART;TZID=America/Chicago:20210415T173000
DTEND;TZID=America/Chicago:20210415T183000
DTSTAMP:20260423T034448
CREATED:20210302T211040Z
LAST-MODIFIED:20210302T211114Z
UID:14933-1618507800-1618511400@thechurchathp.org
SUMMARY:Cultural Transformation Class
DESCRIPTION:​​Author\, educator\, and long-time member of The Church at Highland Park\, Walt Shelton\, is leading a 6-week discussion group on portions of his book\, The Daily Practice of Life: Practical Reflections Toward Meaningful Living (CrossLink 2020). This discussion\, titled “Cultural Transformation: An Open Discussion of Respect\, Inclusiveness\, Racial Harmony\, and the Pursuit of Justice” will meet from 5:30 to 6:30 p.m. on Thursday evenings from March 25 through April 29 Central Time.  Visit the Cultural Transformation Class page for additional information and opportunities to register and get a signed copy of the book.
URL:https://thechurchathp.org/event/cultural-transformation-class5/
CATEGORIES:Adult
ATTACH;FMTTYPE=image/png:https://thechurchathp.org/wp-content/uploads/2021/03/Cultural-Transformation-invite_draft-3.png
END:VEVENT
BEGIN:VEVENT
DTSTART;TZID=America/Chicago:20210414T170000
DTEND;TZID=America/Chicago:20210414T180000
DTSTAMP:20260423T034448
CREATED:20210403T033058Z
LAST-MODIFIED:20210409T191054Z
UID:15050-1618419600-1618423200@thechurchathp.org
SUMMARY:Church Council Meeting
DESCRIPTION:Monthly Church Council meetings are currently held on Zoom. All church members\, not just members of the council\, are welcome to join and participate. Zoom links go out by church email. 
URL:https://thechurchathp.org/event/church-council-meeting-2/
LOCATION:Zoom
CATEGORIES:Adult
ATTACH;FMTTYPE=image/jpeg:https://thechurchathp.org/wp-content/uploads/2021/04/Rowenston-Elementary-School.jpg
END:VEVENT
BEGIN:VEVENT
DTSTART;TZID=America/Chicago:20210411T090000
DTEND;TZID=America/Chicago:20210411T100000
DTSTAMP:20260423T034448
CREATED:20210403T032254Z
LAST-MODIFIED:20210403T185205Z
UID:15040-1618131600-1618135200@thechurchathp.org
SUMMARY:Adult Sunday School
DESCRIPTION:The Adult Sunday School is taught by Walt Shelton on Zoom\, each Sunday at 9:00 a.m. During the month of April\, the class is studying the Easter narratives of each Gospel book. For April 11: Luke 24:13 – 53 and Acts 1:1 – 11. Zoom links are sent out on weekly church emails. Please contact the office at office@thechurchathp.org if you’d like to be connected.
URL:https://thechurchathp.org/event/adult-sunday-school-2/
LOCATION:Zoom
CATEGORIES:Adult
ATTACH;FMTTYPE=image/png:https://thechurchathp.org/wp-content/uploads/2021/04/Adult-Sunday-School-on-Zoom.png
END:VEVENT
BEGIN:VEVENT
DTSTART;TZID=America/Chicago:20210408T173000
DTEND;TZID=America/Chicago:20210408T183000
DTSTAMP:20260423T034448
CREATED:20210302T210956Z
LAST-MODIFIED:20210302T211338Z
UID:14930-1617903000-1617906600@thechurchathp.org
SUMMARY:Cultural Transformation Class
DESCRIPTION:​Author\, educator\, and long-time member of The Church at Highland Park\, Walt Shelton\, is leading a 6-week discussion group on portions of his book\, The Daily Practice of Life: Practical Reflections Toward Meaningful Living (CrossLink 2020). This discussion\, titled “Cultural Transformation: An Open Discussion of Respect\, Inclusiveness\, Racial Harmony\, and the Pursuit of Justice” will meet from 5:30 to 6:30 p.m. on Thursday evenings from March 25 through April 29 Central Time.  Visit the Cultural Transformation Class page for additional information and opportunities to register and get a signed copy of the book.
URL:https://thechurchathp.org/event/cultural-transformation-class-3/
CATEGORIES:Adult
ATTACH;FMTTYPE=image/png:https://thechurchathp.org/wp-content/uploads/2021/03/Cultural-Transformation-invite_draft-3.png
END:VEVENT
BEGIN:VEVENT
DTSTART;TZID=America/Chicago:20210405T180000
DTEND;TZID=America/Chicago:20210405T190000
DTSTAMP:20260423T034448
CREATED:20210403T020139Z
LAST-MODIFIED:20210403T020139Z
UID:15024-1617645600-1617649200@thechurchathp.org
SUMMARY:Monday Night Book Club
DESCRIPTION:The Monday Night Book Club is currently meeting at 6:00 p.m. on Zoom on the first Monday of each month. The group\, lovingly referred to as “The Club”\, will discuss March by Geraldine Brooks on April 5. Visit the Club webpage to see additional books on the schedule and contact information. 
URL:https://thechurchathp.org/event/monday-night-book-club/
LOCATION:Zoom
CATEGORIES:Adult
ATTACH;FMTTYPE=image/jpeg:https://thechurchathp.org/wp-content/uploads/2021/04/81q9zsA6z6L.jpg
END:VEVENT
BEGIN:VEVENT
DTSTART;TZID=America/Chicago:20210404T090000
DTEND;TZID=America/Chicago:20210404T100000
DTSTAMP:20260423T034448
CREATED:20210403T032201Z
LAST-MODIFIED:20210403T185912Z
UID:15038-1617526800-1617530400@thechurchathp.org
SUMMARY:Adult Sunday School
DESCRIPTION:The Adult Sunday School is taught by Walt Shelton on Zoom\, each Sunday at 9:00 a.m. During the month of April\, the class is studying the Easter narratives of each Gospel book. For April 4\, the focus is Luke 23:50 – 24:12. Zoom links are sent out on weekly church emails. Please contact the office at office@thechurchathp.org if you’d like to be connected.
URL:https://thechurchathp.org/event/adult-sunday-school/
LOCATION:Zoom
CATEGORIES:Adult
ATTACH;FMTTYPE=image/png:https://thechurchathp.org/wp-content/uploads/2021/04/Adult-Sunday-School-on-Zoom.png
END:VEVENT
BEGIN:VEVENT
DTSTART;TZID=America/Chicago:20210402T190000
DTEND;TZID=America/Chicago:20210402T200000
DTSTAMP:20260423T034448
CREATED:20210325T174004Z
LAST-MODIFIED:20210325T174004Z
UID:14998-1617390000-1617393600@thechurchathp.org
SUMMARY:Good Friday
DESCRIPTION:Our Good Friday Service Will Be LIVE on Zoom Friday at 7:00 PM. The Worship Service Group has planned a beautiful virtual gathering for us to commemorate the blessed sacrifice of our Savior Jesus Christ. Congregants are asked to tune in from home. The Zoom link will go out on Friday afternoon or contact office@thechurchathp.org if you need the Zoom info. 
URL:https://thechurchathp.org/event/good-friday/
LOCATION:Zoom
CATEGORIES:Adult
ATTACH;FMTTYPE=image/png:https://thechurchathp.org/wp-content/uploads/2021/03/Good-Friday-Marquee.png
END:VEVENT
BEGIN:VEVENT
DTSTART;TZID=America/Chicago:20210402T080000
DTEND;TZID=America/Chicago:20210402T170000
DTSTAMP:20260423T034448
CREATED:20210402T204104Z
LAST-MODIFIED:20210402T204104Z
UID:15018-1617350400-1617382800@thechurchathp.org
SUMMARY:Church Council Meeting
DESCRIPTION:The Church Council will have their monthly meeting on Zoom at 5:00 p.m. on Wednesday\, April 14. The meetings feature reports from staff\, Finance\, Missions\, Worship\, the property and more. All church members\, not just members of the council\, are welcome to attend.
URL:https://thechurchathp.org/event/church-council-meeting/
LOCATION:Zoom
CATEGORIES:Adult
ATTACH;FMTTYPE=image/jpeg:https://thechurchathp.org/wp-content/uploads/2021/04/istockphoto-1209904658-612x612-1.jpg
END:VEVENT
BEGIN:VEVENT
DTSTART;TZID=America/Chicago:20210325T173000
DTEND;TZID=America/Chicago:20210325T183000
DTSTAMP:20260423T034448
CREATED:20210302T203255Z
LAST-MODIFIED:20210304T180953Z
UID:14915-1616693400-1616697000@thechurchathp.org
SUMMARY:Cultural Transformation Class
DESCRIPTION:Author\, educator\, and long-time member of The Church at Highland Park\, Walt Shelton\, is leading a 6-week discussion group on portions of his book\, The Daily Practice of Life: Practical Reflections Toward Meaningful Living (CrossLink 2020). This discussion\, titled “Cultural Transformation: An Open Discussion of Respect\, Inclusiveness\, Racial Harmony\, and the Pursuit of Justice” will meet on Zoom from 5:30 to 6:30 p.m. on Thursday evenings from March 25 through April 29 Central Time.  Visit the Cultural Transformation Class page for additional information and opportunities to register and get a signed copy of the book.
URL:https://thechurchathp.org/event/cultural-transformation-class/
LOCATION:The Church at Highland Park\, 5206 Balcones Dri.ve\, Austin\, TX\, 78731\, United States
CATEGORIES:Adult
ATTACH;FMTTYPE=image/png:https://thechurchathp.org/wp-content/uploads/2021/03/Cultural-Transformation-invite_draft-3.png
END:VEVENT
BEGIN:VEVENT
DTSTART;TZID=America/Chicago:20210220T080000
DTEND;TZID=America/Chicago:20210220T170000
DTSTAMP:20260423T034448
CREATED:20201119T041819Z
LAST-MODIFIED:20210203T162256Z
UID:11897-1613808000-1613840400@thechurchathp.org
SUMMARY:Lifeline Screening
DESCRIPTION:Life Line Screening will be at Highland Park on Saturday\, Feb. 20\, 2021 offering five safe\, painless\, non-invasivepreventive health screenings that are typically not a part of a routine physical. Register online and receive a $10 discount at lifelinescreening.com/communitycircle.
URL:https://thechurchathp.org/event/lifeline-screening/
LOCATION:Room 104
CATEGORIES:Adult
ATTACH;FMTTYPE=image/jpeg:https://thechurchathp.org/wp-content/uploads/2020/11/3bb99a00908a30d4f0e8adfec24354df.jpg
END:VEVENT
END:VCALENDAR