BEGIN:VCALENDAR
VERSION:2.0
PRODID:-//The Church @ Highland Park - ECPv6.15.20//NONSGML v1.0//EN
CALSCALE:GREGORIAN
METHOD:PUBLISH
X-WR-CALNAME:The Church @ Highland Park
X-ORIGINAL-URL:https://thechurchathp.org
X-WR-CALDESC:Events for The Church @ Highland Park
REFRESH-INTERVAL;VALUE=DURATION:PT1H
X-Robots-Tag:noindex
X-PUBLISHED-TTL:PT1H
BEGIN:VTIMEZONE
TZID:America/Chicago
BEGIN:DAYLIGHT
TZOFFSETFROM:-0600
TZOFFSETTO:-0500
TZNAME:CDT
DTSTART:20200308T080000
END:DAYLIGHT
BEGIN:STANDARD
TZOFFSETFROM:-0500
TZOFFSETTO:-0600
TZNAME:CST
DTSTART:20201101T070000
END:STANDARD
BEGIN:DAYLIGHT
TZOFFSETFROM:-0600
TZOFFSETTO:-0500
TZNAME:CDT
DTSTART:20210314T080000
END:DAYLIGHT
BEGIN:STANDARD
TZOFFSETFROM:-0500
TZOFFSETTO:-0600
TZNAME:CST
DTSTART:20211107T070000
END:STANDARD
BEGIN:DAYLIGHT
TZOFFSETFROM:-0600
TZOFFSETTO:-0500
TZNAME:CDT
DTSTART:20220313T080000
END:DAYLIGHT
BEGIN:STANDARD
TZOFFSETFROM:-0500
TZOFFSETTO:-0600
TZNAME:CST
DTSTART:20221106T070000
END:STANDARD
END:VTIMEZONE
BEGIN:VEVENT
DTSTART;TZID=America/Chicago:20210607T084500
DTEND;TZID=America/Chicago:20210609T120000
DTSTAMP:20260424T052056
CREATED:20210510T163058Z
LAST-MODIFIED:20210519T190933Z
UID:15138-1623055500-1623240000@thechurchathp.org
SUMMARY:HP Mini Camp: Let's Get Together!
DESCRIPTION:In lieu of Children’s Camp at Disciple’s Crossing this year\, our Children’s Ministry Coordinator\, Abby Byrd\, has organized HP Mini Camp! We’re so excited to get back together and give your children the opportunity for some outdoor social interaction and physical activity. The children will be in small groups that are kept separate to keep contact to a minimum. Masks will only be required in the building for one of the stations and bathroom trips.  \nMini Camp is June 7-9\, 2021\, 8:45am (drop off) to 12:00pm (pick up). It is open to ages 3 years old through graduated 5th graders\, and costs $10/child. Sign up now\, as we have a registration limit of 40 kids. In order to participate\, the form below must be filled out\, along with the 2021 Permission and Consent to Treat Form and 2021 Medical Information Form. \nIt is important that your children bring: a water bottle\, sack lunch\, mask\, hat if needed\, and towel. Please put on sunscreen ahead of time! \n  \nDay 1- “Let’s Get Moving” \nToday focuses on exercise and keeping our bodies healthy. \nDay 2- “Let’s Get Creative” \nToday’s focus is using our creative minds that God gave us. \nDay 3- “Let’s get Social” \nToday is about team games and working together for a common purpose. \n  \nVOLUNTEERS NEEDED: If you are willing to help run groups and stations\, we would love for you to participate. We are accepting volunteers ages 6th grade (completed) and up! To volunteer or get more information about volunteering\, please e-mail Abby at abyrd@thechurchathp.org. \n 
URL:https://thechurchathp.org/event/mini-camp/
LOCATION:The Church at Highland Park\, 5206 Balcones Dri.ve\, Austin\, TX\, 78731\, United States
CATEGORIES:Children
ATTACH;FMTTYPE=image/jpeg:https://thechurchathp.org/wp-content/uploads/2021/05/Kids-Easter-Egg-Hunt-2-scaled-e1621451357851.jpeg
END:VEVENT
BEGIN:VEVENT
DTSTART;TZID=America/Chicago:20210606T170000
DTEND;TZID=America/Chicago:20210606T180000
DTSTAMP:20260424T052056
CREATED:20210605T192513Z
LAST-MODIFIED:20210605T192513Z
UID:15283-1622998800-1623002400@thechurchathp.org
SUMMARY:Adult Sunday School on Zoom
DESCRIPTION:On June 13\, the group will meet later in the evening at 5:00 p.m. on Zoom. This week will be a Book Club Setting to share any recommended recent (or past) spiritual\, meaningful\, or just enjoyable books with the group.  We will also continue with our study of Ephesians.
URL:https://thechurchathp.org/event/adult-sunday-school-on-zoom-2/
LOCATION:Zoom
CATEGORIES:Adult
ATTACH;FMTTYPE=image/jpeg:https://thechurchathp.org/wp-content/uploads/2021/06/Sunday-School-Happy-Hour.jpg
END:VEVENT
BEGIN:VEVENT
DTSTART;TZID=America/Chicago:20210606T110000
DTEND;TZID=America/Chicago:20210606T120000
DTSTAMP:20260424T052056
CREATED:20210521T012331Z
LAST-MODIFIED:20210521T012332Z
UID:15256-1622977200-1622980800@thechurchathp.org
SUMMARY:Indoor and Online Worship
DESCRIPTION:The Church at Highland Park is delighted to offer an indoor\, masked worship in the Sanctuary each Sunday at 11:00 a.m. Please wear a mask\, respect social distancing\, and visit with others only outdoors. For those who cannot attend or who chose to stay at home\, the service will be live-streamed over the church’s Facebook and YouTube. We are glad to worship our God with you wherever you may be.
URL:https://thechurchathp.org/event/indoor-and-online-worship/
LOCATION:The Church at Highland Park\, 5206 Balcones Dri.ve\, Austin\, TX\, 78731\, United States
CATEGORIES:Multi-Generational
ATTACH;FMTTYPE=image/jpeg:https://thechurchathp.org/wp-content/uploads/2021/05/IMG_0205-1.jpg
END:VEVENT
BEGIN:VEVENT
DTSTART;TZID=America/Chicago:20210530T110000
DTEND;TZID=America/Chicago:20210530T120000
DTSTAMP:20260424T052056
CREATED:20210501T025929Z
LAST-MODIFIED:20210521T145317Z
UID:15131-1622372400-1622376000@thechurchathp.org
SUMMARY:Indoor and Livestream Worship
DESCRIPTION:The Church at Highland Park is delighted to offer an indoor\, masked worship in the Sanctuary each Sunday at 11:00 a.m. Please wear a mask\, respect social distancing\, and visit with others only outdoors. For those who cannot attend or who chose to stay at home\, the service will be live-streamed over the church’s Facebook and YouTube. We are glad to worship our God with you wherever you may be.
URL:https://thechurchathp.org/event/indoor-and-livestream-worship-8/
LOCATION:The Church at Highland Park\, 5206 Balcones Dri.ve\, Austin\, TX\, 78731\, United States
CATEGORIES:Multi-Generational
ATTACH;FMTTYPE=image/png:https://thechurchathp.org/wp-content/uploads/2021/04/born-of-my-spirit.png
END:VEVENT
BEGIN:VEVENT
DTSTART;TZID=America/Chicago:20210523T110000
DTEND;TZID=America/Chicago:20210523T120000
DTSTAMP:20260424T052056
CREATED:20210501T020757Z
LAST-MODIFIED:20210521T153916Z
UID:15127-1621767600-1621771200@thechurchathp.org
SUMMARY:Indoor and Livestream Worship
DESCRIPTION:The Church at Highland Park is delighted to offer an indoor\, masked worship in the Sanctuary each Sunday at 11:00 a.m. Please wear a mask\, respect social distancing\, and visit with others only outdoors. For those who cannot attend or who chose to stay at home\, the service will be live-streamed over the church’s Facebook and YouTube. We are glad to worship our God with you wherever you may be.
URL:https://thechurchathp.org/event/indoor-and-livestream-worship-7/
LOCATION:The Church at Highland Park\, 5206 Balcones Dri.ve\, Austin\, TX\, 78731\, United States
CATEGORIES:Multi-Generational
ATTACH;FMTTYPE=image/png:https://thechurchathp.org/wp-content/uploads/2021/04/oour-out-my-spirit.png
END:VEVENT
BEGIN:VEVENT
DTSTART;TZID=America/Chicago:20210523T103000
DTEND;TZID=America/Chicago:20210523T120000
DTSTAMP:20260424T052056
CREATED:20210430T222721Z
LAST-MODIFIED:20210430T222809Z
UID:15123-1621765800-1621771200@thechurchathp.org
SUMMARY:Food Drive for Baptist Community Center
DESCRIPTION:This month will be collecting donations for the Baptist Community Center Mission’s Spring Food Drive. Paper bags with a list of suggested items are available in the Narthex and donations will be due to the Narthex by Sunday\, May 23. Thank you for your generosity.\n 
URL:https://thechurchathp.org/event/food-drive-for-baptist-community-center-2/
CATEGORIES:Multi-Generational
ATTACH;FMTTYPE=image/jpeg:https://thechurchathp.org/wp-content/uploads/2020/09/IMG_4331.jpg
END:VEVENT
BEGIN:VEVENT
DTSTART;TZID=America/Chicago:20210523T083000
DTEND;TZID=America/Chicago:20210523T103000
DTSTAMP:20260424T052056
CREATED:20210517T162258Z
LAST-MODIFIED:20210517T190821Z
UID:15239-1621758600-1621765800@thechurchathp.org
SUMMARY:Adult Sunday School on Zoom
DESCRIPTION:The Adult Sunday School classes are currently consolidated into one class and meeting on Zoom. Walt Shelton leads the class. In May\, the class is studying a unit on the book of Ephesians. Please contact info@thechurchathp.org if you have questions or want to get connected.
URL:https://thechurchathp.org/event/adult-sunday-school-on-zoom/
LOCATION:Zoom
CATEGORIES:Adult
ATTACH;FMTTYPE=image/png:https://thechurchathp.org/wp-content/uploads/2021/04/Adult-Sunday-School-on-Zoom.png
END:VEVENT
BEGIN:VEVENT
DTSTART;TZID=America/Chicago:20210516T110000
DTEND;TZID=America/Chicago:20210516T120000
DTSTAMP:20260424T052056
CREATED:20210430T223143Z
LAST-MODIFIED:20210430T223143Z
UID:15125-1621162800-1621166400@thechurchathp.org
SUMMARY:Indoor and Livestream Worship
DESCRIPTION:The Church at Highland Park is delighted to offer an indoor\, masked worship in the Sanctuary each Sunday at 11:00 a.m. Please wear a mask\, respect social distancing\, and visit with others only outdoors. For those who cannot attend or who chose to stay at home\, the service will be live-streamed over the church’s Facebook and YouTube. We are glad to worship our God with you wherever you may be.
URL:https://thechurchathp.org/event/indoor-and-livestream-worship-6/
LOCATION:The Church at Highland Park\, 5206 Balcones Dri.ve\, Austin\, TX\, 78731\, United States
ATTACH;FMTTYPE=image/jpeg:https://thechurchathp.org/wp-content/uploads/2020/09/about-2.jpg
END:VEVENT
BEGIN:VEVENT
DTSTART;TZID=America/Chicago:20210516T103000
DTEND;TZID=America/Chicago:20210516T120000
DTSTAMP:20260424T052056
CREATED:20210430T222543Z
LAST-MODIFIED:20210430T222543Z
UID:15121-1621161000-1621166400@thechurchathp.org
SUMMARY:Food Drive for Baptist Community Center
DESCRIPTION:This month will be collecting donations for the Baptist Community Center Mission’s Spring Food Drive. Paper bags with a list of suggested items are available in the Narthex and donations will be due to the Narthex by Sunday\, May 23. Thank you for your generosity.
URL:https://thechurchathp.org/event/food-drive-for-baptist-community-center/
LOCATION:The Church at Highland Park\, 5206 Balcones Dri.ve\, Austin\, TX\, 78731\, United States
ATTACH;FMTTYPE=image/jpeg:https://thechurchathp.org/wp-content/uploads/2020/09/IMG_4331.jpg
END:VEVENT
BEGIN:VEVENT
DTSTART;TZID=America/Chicago:20210516T090000
DTEND;TZID=America/Chicago:20210516T100000
DTSTAMP:20260424T052056
CREATED:20210501T023449Z
LAST-MODIFIED:20210501T023449Z
UID:15129-1621155600-1621159200@thechurchathp.org
SUMMARY:Adult Sunday School
DESCRIPTION:The Adult Sunday School classes are currently consolidated into one class and meeting on Zoom. Walt Shelton leads the class. In May\, the class is studying a unit on the book of Ephesians. Please contact info@thechurchathp.org if you have questions or want to get connected.
URL:https://thechurchathp.org/event/adult-sunday-school-7/
LOCATION:Zoom
CATEGORIES:Adult,Multi-Generational
END:VEVENT
BEGIN:VEVENT
DTSTART;TZID=America/Chicago:20210515T100000
DTEND;TZID=America/Chicago:20210515T233000
DTSTAMP:20260424T052056
CREATED:20210422T184326Z
LAST-MODIFIED:20210422T184326Z
UID:15104-1621072800-1621121400@thechurchathp.org
SUMMARY:Saturday Book Club
DESCRIPTION:All interested readers are welcome to join on the 3rd Saturday of each month on our back patio for that month’s book discussion. The group will meet on May 15 at 10:00 a.m. to discuss “Triple Jeopardy” by Anne Perry.
URL:https://thechurchathp.org/event/saturday-book-club-3/
LOCATION:The Church at Highland Park\, 5206 Balcones Dri.ve\, Austin\, TX\, 78731\, United States
CATEGORIES:Adult
ATTACH;FMTTYPE=image/jpeg:https://thechurchathp.org/wp-content/uploads/2021/04/514-ANpwJLL._SL210_.jpg
END:VEVENT
BEGIN:VEVENT
DTSTART;TZID=America/Chicago:20210509T110000
DTEND;TZID=America/Chicago:20210509T120000
DTSTAMP:20260424T052056
CREATED:20210430T221601Z
LAST-MODIFIED:20210430T221601Z
UID:15115-1620558000-1620561600@thechurchathp.org
SUMMARY:Indoor and Livestream Worship
DESCRIPTION:The Church at Highland Park is delighted to offer an indoor\, masked worship in the Sanctuary each Sunday at 11:00 a.m. Please wear a mask\, respect social distancing\, and visit with others only outdoors. For those who cannot attend or who chose to stay at home\, the service will be live-streamed over the church’s Facebook and YouTube. We are glad to worship our God with you wherever you may be.
URL:https://thechurchathp.org/event/indoor-and-livestream-worship-5/
LOCATION:The Church at Highland Park\, 5206 Balcones Dri.ve\, Austin\, TX\, 78731\, United States
CATEGORIES:Multi-Generational
ATTACH;FMTTYPE=image/jpeg:https://thechurchathp.org/wp-content/uploads/2021/04/IMG_1995.jpg
END:VEVENT
BEGIN:VEVENT
DTSTART;TZID=America/Chicago:20210509T090000
DTEND;TZID=America/Chicago:20210509T100000
DTSTAMP:20260424T052056
CREATED:20210430T222144Z
LAST-MODIFIED:20210430T222144Z
UID:15119-1620550800-1620554400@thechurchathp.org
SUMMARY:Adult Sunday School
DESCRIPTION:The Adult Sunday School classes are currently consolidated into one class and meeting on Zoom. Walt Shelton leads the class. In May\, the class is studying a unit on the book of Ephesians. Please contact info@thechurchathp.org if you have questions or want to get connected.
URL:https://thechurchathp.org/event/adult-sunday-school-6/
LOCATION:Zoom
ATTACH;FMTTYPE=image/png:https://thechurchathp.org/wp-content/uploads/2021/04/Adult-Sunday-School-on-Zoom.png
END:VEVENT
BEGIN:VEVENT
DTSTART;TZID=America/Chicago:20210503T180000
DTEND;TZID=America/Chicago:20210503T190000
DTSTAMP:20260424T052056
CREATED:20210403T032811Z
LAST-MODIFIED:20210403T032811Z
UID:15046-1620064800-1620068400@thechurchathp.org
SUMMARY:Monday Night Book Club
DESCRIPTION:The Monday Night book group is currently meeting online over Zoom at 6:00 p.m. on the first Monday of each month. The group will discuss The Warmth of Other Suns by Isabel Wilkerson on May 3. Contact info@thechurchathp.org if you would like to join the meeting. All are invited and welcome. 
URL:https://thechurchathp.org/event/monday-night-book-club-2/
LOCATION:Zoom
CATEGORIES:Adult
ATTACH;FMTTYPE=image/jpeg:https://thechurchathp.org/wp-content/uploads/2021/04/A1pa5OFqWEL.jpg
END:VEVENT
BEGIN:VEVENT
DTSTART;TZID=America/Chicago:20210502T110000
DTEND;TZID=America/Chicago:20210502T120000
DTSTAMP:20260424T052056
CREATED:20210430T220110Z
LAST-MODIFIED:20210430T220110Z
UID:15113-1619953200-1619956800@thechurchathp.org
SUMMARY:Indoor and Livestream Worship
DESCRIPTION:The Church at Highland Park is delighted to offer an indoor\, masked worship in the Sanctuary each Sunday at 11:00 a.m. Please wear a mask\, respect social distancing\, and visit with others only outdoors. For those who cannot attend or who chose to stay at home\, the service will be live-streamed over the church’s Facebook and YouTube. We are glad to worship our God with you wherever you may be.
URL:https://thechurchathp.org/event/indoor-and-livestream-worship-4/
LOCATION:The Church at Highland Park\, 5206 Balcones Dri.ve\, Austin\, TX\, 78731\, United States
ATTACH;FMTTYPE=image/jpeg:https://thechurchathp.org/wp-content/uploads/2021/04/IMG_1994.jpg
END:VEVENT
BEGIN:VEVENT
DTSTART;TZID=America/Chicago:20210502T090000
DTEND;TZID=America/Chicago:20210502T100000
DTSTAMP:20260424T052056
CREATED:20210430T221946Z
LAST-MODIFIED:20210430T221946Z
UID:15117-1619946000-1619949600@thechurchathp.org
SUMMARY:Adult Sunday School
DESCRIPTION:The Adult Sunday School classes are currently consolidated into one class and meeting on Zoom. Walt Shelton leads the class. In May\, the class is studying a unit on the book of Ephesians. Please contact info@thechurchathp.org if you have questions or want to get connected.
URL:https://thechurchathp.org/event/adult-sunday-school-5/
LOCATION:Zoom
ATTACH;FMTTYPE=image/png:https://thechurchathp.org/wp-content/uploads/2021/04/Adult-Sunday-School-on-Zoom.png
END:VEVENT
BEGIN:VEVENT
DTSTART;TZID=America/Chicago:20210501T070000
DTEND;TZID=America/Chicago:20210501T190000
DTSTAMP:20260424T052056
CREATED:20210413T020600Z
LAST-MODIFIED:20210413T020600Z
UID:15085-1619852400-1619895600@thechurchathp.org
SUMMARY:Polling Place for Local Elections
DESCRIPTION:On Saturday\, May 1\, 2021 we will be a location for the Local Elections for Travis County. Anyone registered to vote in Travis County and vote at any Travis County polling location. Voiting will take place in the back building of our property and will follow all COVID-19 safety precautions outlined by the election officials.
URL:https://thechurchathp.org/event/polling-place-for-local-elections/
LOCATION:The Church at Highland Park\, 5206 Balcones Dri.ve\, Austin\, TX\, 78731\, United States
ATTACH;FMTTYPE=image/jpeg:https://thechurchathp.org/wp-content/uploads/2020/11/IMG_2281.jpg
END:VEVENT
BEGIN:VEVENT
DTSTART;TZID=America/Chicago:20210429T173000
DTEND;TZID=America/Chicago:20210429T183000
DTSTAMP:20260424T052056
CREATED:20210302T211530Z
LAST-MODIFIED:20210302T211530Z
UID:14938-1619717400-1619721000@thechurchathp.org
SUMMARY:Cultural Transformation Class
DESCRIPTION:​​Author\, educator\, and long-time member of The Church at Highland Park\, Walt Shelton\, is leading a 6-week discussion group on portions of his book\, The Daily Practice of Life: Practical Reflections Toward Meaningful Living (CrossLink 2020). This discussion\, titled “Cultural Transformation: An Open Discussion of Respect\, Inclusiveness\, Racial Harmony\, and the Pursuit of Justice” will meet from 5:30 to 6:30 p.m. on Thursday evenings from March 25 through April 29 Central Time.  Visit the Cultural Transformation Class page for additional information and opportunities to register and get a signed copy of the book.
URL:https://thechurchathp.org/event/cultural-transformation-class-4/
CATEGORIES:Adult
ATTACH;FMTTYPE=image/png:https://thechurchathp.org/wp-content/uploads/2021/03/Cultural-Transformation-invite_draft-3.png
END:VEVENT
BEGIN:VEVENT
DTSTART;TZID=America/Chicago:20210428T170000
DTEND;TZID=America/Chicago:20210428T180000
DTSTAMP:20260424T052056
CREATED:20210422T183512Z
LAST-MODIFIED:20210422T183512Z
UID:15102-1619629200-1619632800@thechurchathp.org
SUMMARY:Quarterly Church Conference
DESCRIPTION:All church members are encouraged to join us on Zoom as able on Wednesday\, April 28 at 5:00 p.m. as the Nominating Committee presents their recommended slate for the 2021-2022 Church Council\, and other church business.
URL:https://thechurchathp.org/event/quarterly-church-conference/
LOCATION:Zoom
CATEGORIES:Adult
ATTACH;FMTTYPE=image/jpeg:https://thechurchathp.org/wp-content/uploads/2021/04/Rowenston-Elementary-School.jpg
END:VEVENT
BEGIN:VEVENT
DTSTART;TZID=America/Chicago:20210427T130000
DTEND;TZID=America/Chicago:20210427T143000
DTSTAMP:20260424T052056
CREATED:20210409T195940Z
LAST-MODIFIED:20210422T182953Z
UID:15067-1619528400-1619533800@thechurchathp.org
SUMMARY:Social Hour Zoom
DESCRIPTION:All church members are invited to an unstructured time to visit and catch up with one another over Zoom. The links for the Zoom go out by email before the meeting. 
URL:https://thechurchathp.org/event/social-hour-zoom/
LOCATION:Zoom
ATTACH;FMTTYPE=image/png:https://thechurchathp.org/wp-content/uploads/2021/04/Social-Hour-Zoom.png
END:VEVENT
BEGIN:VEVENT
DTSTART;TZID=America/Chicago:20210425T143000
DTEND;TZID=America/Chicago:20210425T170000
DTSTAMP:20260424T052056
CREATED:20201119T042049Z
LAST-MODIFIED:20210403T031906Z
UID:11900-1619361000-1619370000@thechurchathp.org
SUMMARY:Micah 6 Drop-In Meal
DESCRIPTION:The Church at Highland Park will provide dinner for the Micah 6 Youth Drop In Center on April 25. We will follow the COVID-19 protocols as outlined by the Center to prepare and either drop-off or serve the meal to the 15-30 street dependent persons who come to this weekly meal. \nAt this time we are asking for: \n\nVolunteers to prepare food. We plan to do a meal for 30 people with a meat entree\, green vegetable\, salad\, bread\, and dessert.\nDonations toward the meal. If you’re not in a place where you can prepare or deliver food\, but you would like to contribute to the effort\, email office@thechurchathp.org\nAlana Mallard is willing to have her house be the drop-off and pick-up point again. This has worked well in the past and folks love seeing one another and visiting\, socially-distant with masks.\nMichelle Poncik\, our board rep at Micah 6\, is heading this effort for the meal on April 25th. Please text her to volunteer.
URL:https://thechurchathp.org/event/micah-6-drop-in-meal-2/
CATEGORIES:Adult
ATTACH;FMTTYPE=image/jpeg:https://thechurchathp.org/wp-content/uploads/2020/11/IMG_0041-1-scaled.jpg
END:VEVENT
BEGIN:VEVENT
DTSTART;TZID=America/Chicago:20210425T110000
DTEND;TZID=America/Chicago:20210425T120000
DTSTAMP:20260424T052056
CREATED:20210403T020813Z
LAST-MODIFIED:20210409T195056Z
UID:15029-1619348400-1619352000@thechurchathp.org
SUMMARY:Indoor and Livestream Worship
DESCRIPTION:The Church at Highland Park is delighted to offer an indoor\, masked worship in the Sanctuary each Sunday at 11:00 a.m. Please wear a mask\, respect social distancing\, and visit with others only outdoors. For those who cannot attend or who chose to stay at home\, the service will be live-streamed over the church’s Facebook and YouTube. We are glad to worship our God with you wherever you may be.
URL:https://thechurchathp.org/event/indoor-and-livestream-worship-2/
LOCATION:The Church at Highland Park\, 5206 Balcones Dri.ve\, Austin\, TX\, 78731\, United States
CATEGORIES:Multi-Generational
ATTACH;FMTTYPE=image/jpeg:https://thechurchathp.org/wp-content/uploads/2021/04/IMG_1994.jpg
END:VEVENT
BEGIN:VEVENT
DTSTART;TZID=America/Chicago:20210425T090000
DTEND;TZID=America/Chicago:20210425T100000
DTSTAMP:20260424T052056
CREATED:20210403T032504Z
LAST-MODIFIED:20210403T185032Z
UID:15044-1619341200-1619344800@thechurchathp.org
SUMMARY:Adult Sunday School
DESCRIPTION:The Adult Sunday School is taught by Walt Shelton on Zoom\, each Sunday at 9:00 a.m. During the month of April\, the class is studying the Easter narratives of each Gospel book. For April 25\, the class will look at John 21 and then wrap up the Easter Unit. Zoom links are sent out on weekly church emails. Please contact the office at office@thechurchathp.org if you’d like to be connected.
URL:https://thechurchathp.org/event/adult-sunday-school-4/
LOCATION:Zoom
CATEGORIES:Adult
ATTACH;FMTTYPE=image/png:https://thechurchathp.org/wp-content/uploads/2021/04/Adult-Sunday-School-on-Zoom.png
END:VEVENT
BEGIN:VEVENT
DTSTART;TZID=America/Chicago:20210422T173000
DTEND;TZID=America/Chicago:20210422T183000
DTSTAMP:20260424T052056
CREATED:20210302T211439Z
LAST-MODIFIED:20210302T211439Z
UID:14936-1619112600-1619116200@thechurchathp.org
SUMMARY:Cultural Transformation Class
DESCRIPTION:​​Author\, educator\, and long-time member of The Church at Highland Park\, Walt Shelton\, is leading a 6-week discussion group on portions of his book\, The Daily Practice of Life: Practical Reflections Toward Meaningful Living (CrossLink 2020). This discussion\, titled “Cultural Transformation: An Open Discussion of Respect\, Inclusiveness\, Racial Harmony\, and the Pursuit of Justice” will meet from 5:30 to 6:30 p.m. on Thursday evenings from March 25 through April 29 Central Time.  Visit the Cultural Transformation Class page for additional information and opportunities to register and get a signed copy of the book.
URL:https://thechurchathp.org/event/cultural-transformation-class-5/
CATEGORIES:Adult
ATTACH;FMTTYPE=image/png:https://thechurchathp.org/wp-content/uploads/2021/03/Cultural-Transformation-invite_draft-3.png
END:VEVENT
BEGIN:VEVENT
DTSTART;TZID=America/Chicago:20210418T110000
DTEND;TZID=America/Chicago:20210418T120000
DTSTAMP:20260424T052056
CREATED:20210403T021013Z
LAST-MODIFIED:20210409T194852Z
UID:15031-1618743600-1618747200@thechurchathp.org
SUMMARY:Indoor and Livestream Worship
DESCRIPTION:The Church at Highland Park is delighted to offer an indoor\, masked worship in the Sanctuary each Sunday at 11:00 a.m. Please wear a mask\, respect social distancing\, and visit with others only outdoors. For those who cannot attend or who chose to stay at home\, the service will be live-streamed over the church’s Facebook and YouTube. We are glad to worship our God with you wherever you may be.
URL:https://thechurchathp.org/event/indoor-and-livestream-worship-3/
LOCATION:The Church at Highland Park\, 5206 Balcones Dri.ve\, Austin\, TX\, 78731\, United States
CATEGORIES:Multi-Generational
ATTACH;FMTTYPE=image/jpeg:https://thechurchathp.org/wp-content/uploads/2021/04/IMG_1995.jpg
END:VEVENT
BEGIN:VEVENT
DTSTART;TZID=America/Chicago:20210418T090000
DTEND;TZID=America/Chicago:20210418T100000
DTSTAMP:20260424T052056
CREATED:20210403T032403Z
LAST-MODIFIED:20210403T185120Z
UID:15042-1618736400-1618740000@thechurchathp.org
SUMMARY:Adult Sunday School
DESCRIPTION:The Adult Sunday School is taught by Walt Shelton on Zoom\, each Sunday at 9:00 a.m. During the month of April\, the class is studying the Easter narratives of each Gospel book. For April 18\, the focus is John 20. Zoom links are sent out on weekly church emails. Please contact the office at office@thechurchathp.org if you’d like to be connected.
URL:https://thechurchathp.org/event/adult-sunday-school-3/
CATEGORIES:Adult
ATTACH;FMTTYPE=image/png:https://thechurchathp.org/wp-content/uploads/2021/04/Adult-Sunday-School-on-Zoom.png
END:VEVENT
BEGIN:VEVENT
DTSTART;TZID=America/Chicago:20210417T100000
DTEND;TZID=America/Chicago:20210417T110000
DTSTAMP:20260424T052056
CREATED:20210403T013825Z
LAST-MODIFIED:20210403T013825Z
UID:15021-1618653600-1618657200@thechurchathp.org
SUMMARY:Saturday Book Club
DESCRIPTION:The Saturday Book Club is currently meeting in-person\, masked and socially-distant on the back patio on the 3rd Saturday of each month. The book for April is Hotel on the Corner of Bitter and Sweet by Jamie Ford. Any interested readers are welcome and please contact Alana Mallard so the group can be aware of numbers. View the Saturday Book Club page for further information.
URL:https://thechurchathp.org/event/saturday-book-club-2/
LOCATION:The Church at Highland Park\, 5206 Balcones Dri.ve\, Austin\, TX\, 78731\, United States
CATEGORIES:Adult
ATTACH;FMTTYPE=image/jpeg:https://thechurchathp.org/wp-content/uploads/2021/04/A9B24857-03F0-434A-9DB0-265CAD9FBC26Img100.jpg
END:VEVENT
BEGIN:VEVENT
DTSTART;TZID=America/Chicago:20210415T173000
DTEND;TZID=America/Chicago:20210415T183000
DTSTAMP:20260424T052056
CREATED:20210302T211040Z
LAST-MODIFIED:20210302T211114Z
UID:14933-1618507800-1618511400@thechurchathp.org
SUMMARY:Cultural Transformation Class
DESCRIPTION:​​Author\, educator\, and long-time member of The Church at Highland Park\, Walt Shelton\, is leading a 6-week discussion group on portions of his book\, The Daily Practice of Life: Practical Reflections Toward Meaningful Living (CrossLink 2020). This discussion\, titled “Cultural Transformation: An Open Discussion of Respect\, Inclusiveness\, Racial Harmony\, and the Pursuit of Justice” will meet from 5:30 to 6:30 p.m. on Thursday evenings from March 25 through April 29 Central Time.  Visit the Cultural Transformation Class page for additional information and opportunities to register and get a signed copy of the book.
URL:https://thechurchathp.org/event/cultural-transformation-class5/
CATEGORIES:Adult
ATTACH;FMTTYPE=image/png:https://thechurchathp.org/wp-content/uploads/2021/03/Cultural-Transformation-invite_draft-3.png
END:VEVENT
BEGIN:VEVENT
DTSTART;TZID=America/Chicago:20210414T170000
DTEND;TZID=America/Chicago:20210414T180000
DTSTAMP:20260424T052056
CREATED:20210403T033058Z
LAST-MODIFIED:20210409T191054Z
UID:15050-1618419600-1618423200@thechurchathp.org
SUMMARY:Church Council Meeting
DESCRIPTION:Monthly Church Council meetings are currently held on Zoom. All church members\, not just members of the council\, are welcome to join and participate. Zoom links go out by church email. 
URL:https://thechurchathp.org/event/church-council-meeting-2/
LOCATION:Zoom
CATEGORIES:Adult
ATTACH;FMTTYPE=image/jpeg:https://thechurchathp.org/wp-content/uploads/2021/04/Rowenston-Elementary-School.jpg
END:VEVENT
BEGIN:VEVENT
DTSTART;TZID=America/Chicago:20210411T110000
DTEND;TZID=America/Chicago:20210411T120000
DTSTAMP:20260424T052056
CREATED:20210403T020709Z
LAST-MODIFIED:20210409T194554Z
UID:15027-1618138800-1618142400@thechurchathp.org
SUMMARY:Indoor and Livestream Worship
DESCRIPTION:The Church at Highland Park is delighted to offer an indoor\, masked worship in the Sanctuary each Sunday at 11:00 a.m. Please wear a mask\, respect social distancing\, and visit with others only outdoors. For those who cannot attend or who chose to stay at home\, the service will be live-streamed over the church’s Facebook and YouTube. We are glad to worship our God with you wherever you may be.
URL:https://thechurchathp.org/event/indoor-and-livestream-worship/
LOCATION:The Church at Highland Park\, 5206 Balcones Dri.ve\, Austin\, TX\, 78731\, United States
CATEGORIES:Multi-Generational
ATTACH;FMTTYPE=image/jpeg:https://thechurchathp.org/wp-content/uploads/2021/04/IMG_1994.jpg
END:VEVENT
END:VCALENDAR