BEGIN:VCALENDAR
VERSION:2.0
PRODID:-//The Church @ Highland Park - ECPv6.15.20//NONSGML v1.0//EN
CALSCALE:GREGORIAN
METHOD:PUBLISH
X-ORIGINAL-URL:https://thechurchathp.org
X-WR-CALDESC:Events for The Church @ Highland Park
REFRESH-INTERVAL;VALUE=DURATION:PT1H
X-Robots-Tag:noindex
X-PUBLISHED-TTL:PT1H
BEGIN:VTIMEZONE
TZID:America/Chicago
BEGIN:DAYLIGHT
TZOFFSETFROM:-0600
TZOFFSETTO:-0500
TZNAME:CDT
DTSTART:20250309T080000
END:DAYLIGHT
BEGIN:STANDARD
TZOFFSETFROM:-0500
TZOFFSETTO:-0600
TZNAME:CST
DTSTART:20251102T070000
END:STANDARD
BEGIN:DAYLIGHT
TZOFFSETFROM:-0600
TZOFFSETTO:-0500
TZNAME:CDT
DTSTART:20260308T080000
END:DAYLIGHT
BEGIN:STANDARD
TZOFFSETFROM:-0500
TZOFFSETTO:-0600
TZNAME:CST
DTSTART:20261101T070000
END:STANDARD
BEGIN:DAYLIGHT
TZOFFSETFROM:-0600
TZOFFSETTO:-0500
TZNAME:CDT
DTSTART:20270314T080000
END:DAYLIGHT
BEGIN:STANDARD
TZOFFSETFROM:-0500
TZOFFSETTO:-0600
TZNAME:CST
DTSTART:20271107T070000
END:STANDARD
END:VTIMEZONE
BEGIN:VEVENT
DTSTART;VALUE=DATE:20261213
DTEND;VALUE=DATE:20261214
DTSTAMP:20260420T190508
CREATED:20260123T201532Z
LAST-MODIFIED:20260123T201532Z
UID:18627-1797120000-1797206399@thechurchathp.org
SUMMARY:Plum Pudding
DESCRIPTION:
URL:https://thechurchathp.org/event/plum-pudding-2/
LOCATION:TX
ATTACH;FMTTYPE=image/png:https://thechurchathp.org/wp-content/uploads/2026/01/Plum-pudding-7.png
END:VEVENT
BEGIN:VEVENT
DTSTART;TZID=America/Chicago:20261224T183000
DTEND;TZID=America/Chicago:20261224T193000
DTSTAMP:20260420T190508
CREATED:20260123T202402Z
LAST-MODIFIED:20260123T202402Z
UID:18631-1798137000-1798140600@thechurchathp.org
SUMMARY:Christmas Eve Candlelit Service
DESCRIPTION:
URL:https://thechurchathp.org/event/christmas-eve-candlelit-service/
LOCATION:The Church at Highland Park\, 5206 Balcones Dri.ve\, Austin\, TX\, 78731\, United States
ATTACH;FMTTYPE=image/png:https://thechurchathp.org/wp-content/uploads/2026/01/Copy-of-Christmas-Eve-Party-Instagram-Post-4.png
END:VEVENT
END:VCALENDAR