BEGIN:VCALENDAR
VERSION:2.0
PRODID:-//The Church @ Highland Park - ECPv6.15.20//NONSGML v1.0//EN
CALSCALE:GREGORIAN
METHOD:PUBLISH
X-WR-CALNAME:The Church @ Highland Park
X-ORIGINAL-URL:https://thechurchathp.org
X-WR-CALDESC:Events for The Church @ Highland Park
REFRESH-INTERVAL;VALUE=DURATION:PT1H
X-Robots-Tag:noindex
X-PUBLISHED-TTL:PT1H
BEGIN:VTIMEZONE
TZID:America/Chicago
BEGIN:DAYLIGHT
TZOFFSETFROM:-0600
TZOFFSETTO:-0500
TZNAME:CDT
DTSTART:20200308T080000
END:DAYLIGHT
BEGIN:STANDARD
TZOFFSETFROM:-0500
TZOFFSETTO:-0600
TZNAME:CST
DTSTART:20201101T070000
END:STANDARD
BEGIN:DAYLIGHT
TZOFFSETFROM:-0600
TZOFFSETTO:-0500
TZNAME:CDT
DTSTART:20210314T080000
END:DAYLIGHT
BEGIN:STANDARD
TZOFFSETFROM:-0500
TZOFFSETTO:-0600
TZNAME:CST
DTSTART:20211107T070000
END:STANDARD
BEGIN:DAYLIGHT
TZOFFSETFROM:-0600
TZOFFSETTO:-0500
TZNAME:CDT
DTSTART:20220313T080000
END:DAYLIGHT
BEGIN:STANDARD
TZOFFSETFROM:-0500
TZOFFSETTO:-0600
TZNAME:CST
DTSTART:20221106T070000
END:STANDARD
END:VTIMEZONE
BEGIN:VEVENT
DTSTART;TZID=America/Chicago:20211102T070000
DTEND;TZID=America/Chicago:20211102T190000
DTSTAMP:20260424T021517
CREATED:20210610T153637Z
LAST-MODIFIED:20210610T153637Z
UID:15322-1635836400-1635879600@thechurchathp.org
SUMMARY:Local Elections
DESCRIPTION:Highland Park will be a polling place on Tuesday\, November 2. Polls are open from 7:00 a.m. to 7:00 p.m. Anyone registered to vote in Travis County can vote at any Travis Country polling place.
URL:https://thechurchathp.org/event/local-elections/
LOCATION:The Church at Highland Park\, 5206 Balcones Dri.ve\, Austin\, TX\, 78731\, United States
ATTACH;FMTTYPE=image/jpeg:https://thechurchathp.org/wp-content/uploads/2020/11/IMG_2281.jpg
END:VEVENT
BEGIN:VEVENT
DTSTART;TZID=America/Chicago:20211113T090000
DTEND;TZID=America/Chicago:20211113T160000
DTSTAMP:20260424T021517
CREATED:20210628T193642Z
LAST-MODIFIED:20211108T152117Z
UID:15358-1636794000-1636819200@thechurchathp.org
SUMMARY:Womanfest 2021
DESCRIPTION:This year\, much like everything else\, Womanfest will look a little different. The main event will take place on Saturday\, November 13 at Pecan Manor in Taylor\, Texas. Thankfully\, Taylor is a short drive from Austin! This is where we will have our speaker/discussion and time together. We are planning on using an outdoor space\, but if it is too cold or wet\, there is an indoor space that we will be able to use as well. Please bring snacks or drinks to share with the group. \n\nSome of you expressed interest in staying the night\, so there are 5 reserved rooms (10 people) for the night of Friday\, November 12. The rooms will go to the first 10 people who pay for them. Each room sleeps 2 and has a queen size bed\, so you will either be sharing a bed or you will need to bring a blow up mattress. These rooms will be first come first serve\, but if there are enough people that want to stay\, Abby will look into reserving more rooms at a nearby location.\n\nPay for your room here.\nEmail Abby at abyrd@thechurchathp.org once you pay for your room\, and she will put your name on the list of 10.\n\nInformation:\n\nThe price is $100 if you are staying the night. Check in begins at 3:00pm on Friday.\nIf you are just coming for the Saturday event\, the cost is only $20.\nLocation- Pecan Manor- 819 Hackberry St\, Taylor\, TX 76574\n\nSaturday Schedule: \n9:00am–Everyone arrives at Pecan Manor \n9:30am–Morning Session \n12:00-1:30pm–Lunch on your own \n1:30-3:30pm–Afternoon Session \n  \n\nFill out your registration form here!
URL:https://thechurchathp.org/event/womanfest-2021/
LOCATION:Pecan Manor\, 819 Hackberry St\, Taylor\, Texas\, 76574
CATEGORIES:Adult
ATTACH;FMTTYPE=image/png:https://thechurchathp.org/wp-content/uploads/2021/06/Copy-of-Sign-Up-Instagram-Story-3.png
END:VEVENT
END:VCALENDAR