BEGIN:VCALENDAR
VERSION:2.0
PRODID:-//The Church @ Highland Park - ECPv6.15.20//NONSGML v1.0//EN
CALSCALE:GREGORIAN
METHOD:PUBLISH
X-WR-CALNAME:The Church @ Highland Park
X-ORIGINAL-URL:https://thechurchathp.org
X-WR-CALDESC:Events for The Church @ Highland Park
REFRESH-INTERVAL;VALUE=DURATION:PT1H
X-Robots-Tag:noindex
X-PUBLISHED-TTL:PT1H
BEGIN:VTIMEZONE
TZID:America/Chicago
BEGIN:DAYLIGHT
TZOFFSETFROM:-0600
TZOFFSETTO:-0500
TZNAME:CDT
DTSTART:20200308T080000
END:DAYLIGHT
BEGIN:STANDARD
TZOFFSETFROM:-0500
TZOFFSETTO:-0600
TZNAME:CST
DTSTART:20201101T070000
END:STANDARD
BEGIN:DAYLIGHT
TZOFFSETFROM:-0600
TZOFFSETTO:-0500
TZNAME:CDT
DTSTART:20210314T080000
END:DAYLIGHT
BEGIN:STANDARD
TZOFFSETFROM:-0500
TZOFFSETTO:-0600
TZNAME:CST
DTSTART:20211107T070000
END:STANDARD
BEGIN:DAYLIGHT
TZOFFSETFROM:-0600
TZOFFSETTO:-0500
TZNAME:CDT
DTSTART:20220313T080000
END:DAYLIGHT
BEGIN:STANDARD
TZOFFSETFROM:-0500
TZOFFSETTO:-0600
TZNAME:CST
DTSTART:20221106T070000
END:STANDARD
END:VTIMEZONE
BEGIN:VEVENT
DTSTART;TZID=America/Chicago:20211224T183000
DTEND;TZID=America/Chicago:20211224T193000
DTSTAMP:20260424T003332
CREATED:20211221T162035Z
LAST-MODIFIED:20211221T162035Z
UID:15719-1640370600-1640374200@thechurchathp.org
SUMMARY:Christmas Eve Service
DESCRIPTION:Come join us this Christmas Eve to sing some candlelit Christmas Carols at 6:30pm! This will be a wonderful time of worship and fellowship together as we head into Christmas Weekend. \nWith the city of Austin being at Stage 3 restrictions for COVID-19\, we recommend wearing masks during worship\, but they are not required if you are vaccinated. Social distancing is encouraged as we aim to mitigate the spread of the variants. If you are not comfortable with these guidelines or are experiencing any symptoms of sickness\, we invite you to attend virtually on our live-stream via our Facebook Page or YouTube Channel.
URL:https://thechurchathp.org/event/christmas-eve-service/
LOCATION:Sanctuary\, 5206 Balcones Drive\, Austin\, TX\, 78731
CATEGORIES:Multi-Generational
ATTACH;FMTTYPE=image/jpeg:https://thechurchathp.org/wp-content/uploads/2020/11/IMG_4583.jpg
END:VEVENT
END:VCALENDAR