BEGIN:VCALENDAR
VERSION:2.0
PRODID:-//The Church @ Highland Park - ECPv6.15.20//NONSGML v1.0//EN
CALSCALE:GREGORIAN
METHOD:PUBLISH
X-WR-CALNAME:The Church @ Highland Park
X-ORIGINAL-URL:https://thechurchathp.org
X-WR-CALDESC:Events for The Church @ Highland Park
REFRESH-INTERVAL;VALUE=DURATION:PT1H
X-Robots-Tag:noindex
X-PUBLISHED-TTL:PT1H
BEGIN:VTIMEZONE
TZID:America/Chicago
BEGIN:DAYLIGHT
TZOFFSETFROM:-0600
TZOFFSETTO:-0500
TZNAME:CDT
DTSTART:20210314T080000
END:DAYLIGHT
BEGIN:STANDARD
TZOFFSETFROM:-0500
TZOFFSETTO:-0600
TZNAME:CST
DTSTART:20211107T070000
END:STANDARD
BEGIN:DAYLIGHT
TZOFFSETFROM:-0600
TZOFFSETTO:-0500
TZNAME:CDT
DTSTART:20220313T080000
END:DAYLIGHT
BEGIN:STANDARD
TZOFFSETFROM:-0500
TZOFFSETTO:-0600
TZNAME:CST
DTSTART:20221106T070000
END:STANDARD
BEGIN:DAYLIGHT
TZOFFSETFROM:-0600
TZOFFSETTO:-0500
TZNAME:CDT
DTSTART:20230312T080000
END:DAYLIGHT
BEGIN:STANDARD
TZOFFSETFROM:-0500
TZOFFSETTO:-0600
TZNAME:CST
DTSTART:20231105T070000
END:STANDARD
END:VTIMEZONE
BEGIN:VEVENT
DTSTART;TZID=America/Chicago:20220115T100000
DTEND;TZID=America/Chicago:20220115T120000
DTSTAMP:20260423T225143
CREATED:20220112T155124Z
LAST-MODIFIED:20220112T155124Z
UID:15763-1642240800-1642248000@thechurchathp.org
SUMMARY:Bluebonnet Chapter\, ANG   American Needlepoint Guild
DESCRIPTION:Bluebonnet Chapter\, ANG meets every 3rd Saturday in room #225 from 10:00am to 12:00pm
URL:https://thechurchathp.org/event/bluebonnet-chapter-ang-american-needlepoint-guild/
LOCATION:Rm. 225\, 5206 Balcones Drive\, Austin
ATTACH;FMTTYPE=image/png:https://thechurchathp.org/wp-content/uploads/2021/07/Bluebonnet-Chapter-of-the-American-Needlepoint-Guild.png
END:VEVENT
BEGIN:VEVENT
DTSTART;VALUE=DATE:20220121
DTEND;VALUE=DATE:20220124
DTSTAMP:20260423T225143
CREATED:20211216T185635Z
LAST-MODIFIED:20220112T161233Z
UID:15707-1642723200-1642982399@thechurchathp.org
SUMMARY:Sapp Lecture Series
DESCRIPTION:FOLLOWING THE NARROW PATH: PRIORITIZING SELF-REFLECTION AND PURSUING JUSTICE \nSapp Lecture Series: In-Person and Virtual Retreat – Sponsored by The Church @ Highland Park\, Austin\, TX \nJanuary 21-23\, 2022 with Walt Shelton \nEach participant will be provided with Walt’s book: The Daily Practice of Life: Practical Reflections Toward Meaningful Living (CrossLink Publishing 2020) by Walt Shelton (Note: If you have this book already\, please give the new one to a friend as an excellent Lent resource with 40 meditative chapters/reflections.) \nSchedule \n\nFriday Evening\, Jan. 21: “Following\, Believing\, or Both?” at 6:00pm (dinner provided)\nSaturday Morning\, Jan. 22: “Identifying with Jesus in the Wilderness for Lent and in All Seasons” at 9:00am (lunch provided)\nSunday Morning\, Jan. 23: “Actively Pursuing Justice: The Heart of Jesus’s Vocation as the Anointed One”\n\nMorning Session in Sunday School at 9:00am\nWorship Service/Sermon at 11:00am\n\n\n\nTo participate in person\, the cost is $25. To participate on Zoom\, the cost is $15. This includes a copy of the book\, dinner on Friday\, and lunch on Saturday. You can pay the fee here. Register below! If you have any trouble\, feel free to email the church office at office@thechurchathp.org or call (512) 453-6603. \n 
URL:https://thechurchathp.org/event/sapp-lecture-series/
LOCATION:Sapp Hall
CATEGORIES:Adult,Youth
ATTACH;FMTTYPE=image/jpeg:https://thechurchathp.org/wp-content/uploads/2020/11/austin-nadine-photo-004-1.jpg
END:VEVENT
BEGIN:VEVENT
DTSTART;TZID=America/Chicago:20220123T123000
DTEND;TZID=America/Chicago:20220123T183000
DTSTAMP:20260423T225143
CREATED:20220119T174546Z
LAST-MODIFIED:20220119T174547Z
UID:15794-1642941000-1642962600@thechurchathp.org
SUMMARY:Youth Mini Golf Party
DESCRIPTION:Join the HP Youth for lunch\, mini golf\, and fun at the Evans-Clements House on Sunday\, January 23rd! \nWe will leave after church for lunch\, then head to Monster Mini Golf in Round Rock\, TX. After we’re done there\, we will head to Masyn’s house to hang out\, play games\, and eat dinner around 5:30\, and parent pick around 6:30pm. \nI suggest bringing $25/student for lunch and golf\, but do not let money keep your child from participating! We have funds available so all our youth can participate. \nSee you there!
URL:https://thechurchathp.org/event/youth-mini-golf-party/
LOCATION:TX
CATEGORIES:Youth
END:VEVENT
END:VCALENDAR