BEGIN:VCALENDAR
VERSION:2.0
PRODID:-//The Church @ Highland Park - ECPv6.15.20//NONSGML v1.0//EN
CALSCALE:GREGORIAN
METHOD:PUBLISH
X-ORIGINAL-URL:https://thechurchathp.org
X-WR-CALDESC:Events for The Church @ Highland Park
REFRESH-INTERVAL;VALUE=DURATION:PT1H
X-Robots-Tag:noindex
X-PUBLISHED-TTL:PT1H
BEGIN:VTIMEZONE
TZID:America/Chicago
BEGIN:DAYLIGHT
TZOFFSETFROM:-0600
TZOFFSETTO:-0500
TZNAME:CDT
DTSTART:20210314T080000
END:DAYLIGHT
BEGIN:STANDARD
TZOFFSETFROM:-0500
TZOFFSETTO:-0600
TZNAME:CST
DTSTART:20211107T070000
END:STANDARD
BEGIN:DAYLIGHT
TZOFFSETFROM:-0600
TZOFFSETTO:-0500
TZNAME:CDT
DTSTART:20220313T080000
END:DAYLIGHT
BEGIN:STANDARD
TZOFFSETFROM:-0500
TZOFFSETTO:-0600
TZNAME:CST
DTSTART:20221106T070000
END:STANDARD
BEGIN:DAYLIGHT
TZOFFSETFROM:-0600
TZOFFSETTO:-0500
TZNAME:CDT
DTSTART:20230312T080000
END:DAYLIGHT
BEGIN:STANDARD
TZOFFSETFROM:-0500
TZOFFSETTO:-0600
TZNAME:CST
DTSTART:20231105T070000
END:STANDARD
END:VTIMEZONE
BEGIN:VEVENT
DTSTART;TZID=America/Chicago:20220219T100000
DTEND;TZID=America/Chicago:20220219T120000
DTSTAMP:20260423T212456
CREATED:20220112T155630Z
LAST-MODIFIED:20220112T155630Z
UID:15769-1645264800-1645272000@thechurchathp.org
SUMMARY:Bluebonnet Chapter\, ANG  American Needlepoint Guild
DESCRIPTION:Bluebonnet Chapter\, ANG (American Needlepoint Guild) meets every third Saturday of the month except December at The Church @ Highland Park.
URL:https://thechurchathp.org/event/bluebonnet-chapter-ang-american-needlepoint-guild-2/
LOCATION:Rm. 225\, 5206 Balcones Drive\, Austin
ATTACH;FMTTYPE=image/png:https://thechurchathp.org/wp-content/uploads/2021/07/Bluebonnet-Chapter-of-the-American-Needlepoint-Guild.png
END:VEVENT
BEGIN:VEVENT
DTSTART;TZID=America/Chicago:20220226T080000
DTEND;TZID=America/Chicago:20220226T140000
DTSTAMP:20260423T212456
CREATED:20220208T205956Z
LAST-MODIFIED:20220208T205956Z
UID:15816-1645862400-1645884000@thechurchathp.org
SUMMARY:Pack 55 Pinewood Derby
DESCRIPTION:Pack 55 Pinewood Derby
URL:https://thechurchathp.org/event/pack-55-pinewood-derby/
LOCATION:Sapp Hall
ATTACH;FMTTYPE=image/png:https://thechurchathp.org/wp-content/uploads/2021/07/Pack-55-for-website-1.png
END:VEVENT
END:VCALENDAR