BEGIN:VCALENDAR
VERSION:2.0
PRODID:-//The Church @ Highland Park - ECPv6.15.20//NONSGML v1.0//EN
CALSCALE:GREGORIAN
METHOD:PUBLISH
X-ORIGINAL-URL:https://thechurchathp.org
X-WR-CALDESC:Events for The Church @ Highland Park
REFRESH-INTERVAL;VALUE=DURATION:PT1H
X-Robots-Tag:noindex
X-PUBLISHED-TTL:PT1H
BEGIN:VTIMEZONE
TZID:America/Chicago
BEGIN:DAYLIGHT
TZOFFSETFROM:-0600
TZOFFSETTO:-0500
TZNAME:CDT
DTSTART:20210314T080000
END:DAYLIGHT
BEGIN:STANDARD
TZOFFSETFROM:-0500
TZOFFSETTO:-0600
TZNAME:CST
DTSTART:20211107T070000
END:STANDARD
BEGIN:DAYLIGHT
TZOFFSETFROM:-0600
TZOFFSETTO:-0500
TZNAME:CDT
DTSTART:20220313T080000
END:DAYLIGHT
BEGIN:STANDARD
TZOFFSETFROM:-0500
TZOFFSETTO:-0600
TZNAME:CST
DTSTART:20221106T070000
END:STANDARD
BEGIN:DAYLIGHT
TZOFFSETFROM:-0600
TZOFFSETTO:-0500
TZNAME:CDT
DTSTART:20230312T080000
END:DAYLIGHT
BEGIN:STANDARD
TZOFFSETFROM:-0500
TZOFFSETTO:-0600
TZNAME:CST
DTSTART:20231105T070000
END:STANDARD
END:VTIMEZONE
BEGIN:VEVENT
DTSTART;TZID=America/Chicago:20220301T070000
DTEND;TZID=America/Chicago:20220301T190000
DTSTAMP:20260423T195113
CREATED:20220208T205019Z
LAST-MODIFIED:20220208T205019Z
UID:15812-1646118000-1646161200@thechurchathp.org
SUMMARY:Travis County Election
DESCRIPTION:Gubernatorial Primary Election
URL:https://thechurchathp.org/event/travis-county-election/
LOCATION:The Church at Highland Park\, 5206 Balcones Dri.ve\, Austin\, TX\, 78731\, United States
ATTACH;FMTTYPE=image/jpeg:https://thechurchathp.org/wp-content/uploads/2020/11/IMG_2281.jpg
END:VEVENT
BEGIN:VEVENT
DTSTART;TZID=America/Chicago:20220302T183000
DTEND;TZID=America/Chicago:20220302T193000
DTSTAMP:20260423T195113
CREATED:20220225T202418Z
LAST-MODIFIED:20220225T202418Z
UID:15887-1646245800-1646249400@thechurchathp.org
SUMMARY:Ash Wednesday Worship Service
DESCRIPTION:Come this Wednesday\, March 2nd at 6:30 for the Imposition of Ashes
URL:https://thechurchathp.org/event/ash-wednesday-worship-service/
LOCATION:Sanctuary\, 5206 Balcones Drive\, Austin\, TX\, 78731
ATTACH;FMTTYPE=image/png:https://thechurchathp.org/wp-content/uploads/2022/02/Ash-Wednesday-Service.png
END:VEVENT
BEGIN:VEVENT
DTSTART;TZID=America/Chicago:20220305T130000
DTEND;TZID=America/Chicago:20220305T150000
DTSTAMP:20260423T195113
CREATED:20220208T210334Z
LAST-MODIFIED:20220208T210334Z
UID:15818-1646485200-1646492400@thechurchathp.org
SUMMARY:Paragon Prep School Open House
DESCRIPTION:
URL:https://thechurchathp.org/event/paragon-prep-school-open-house/
LOCATION:The Church at Highland Park\, 5206 Balcones Dri.ve\, Austin\, TX\, 78731\, United States
ATTACH;FMTTYPE=image/png:https://thechurchathp.org/wp-content/uploads/2021/08/Copy-of-Paragon-Prep.png
END:VEVENT
BEGIN:VEVENT
DTSTART;TZID=America/Chicago:20220306T120000
DTEND;TZID=America/Chicago:20220306T123000
DTSTAMP:20260423T195113
CREATED:20220225T203918Z
LAST-MODIFIED:20220225T203918Z
UID:15893-1646568000-1646569800@thechurchathp.org
SUMMARY:Quarterly Church Conference
DESCRIPTION:Regularly scheduled quarterly Church conference will be held March 6th right after worship.
URL:https://thechurchathp.org/event/quarterly-church-conference-2/
LOCATION:Sanctuary\, 5206 Balcones Drive\, Austin\, TX\, 78731
ATTACH;FMTTYPE=image/png:https://thechurchathp.org/wp-content/uploads/2022/02/2.png
END:VEVENT
BEGIN:VEVENT
DTSTART;TZID=America/Chicago:20220306T123000
DTEND;TZID=America/Chicago:20220306T130000
DTSTAMP:20260423T195113
CREATED:20220225T203236Z
LAST-MODIFIED:20220225T203236Z
UID:15890-1646569800-1646571600@thechurchathp.org
SUMMARY:Crop Hunger Walk
DESCRIPTION:Crop Hunger Walk is March 6th.  Due to COVID 19 concerns\, the walk will be virtual again.  Please go to Crop Hunger Walk website to learn more about the walk\, to sign up to join The Church @ Highland Park’s team or to make a donation.  We will take a symbolic walk around the parking lot after worship on March 6th.   The CROP Hunger Walk is the only nationwide Walk that addresses hunger both locally and globally. One example of how funds are used is in the Dominican Republic is supporting families to develop their own gardens\, farms\, and fishing ponds so they can have life-changing food solutions. \nLast year the Austin walk raised $81\,500 and the hope is to even better this year!
URL:https://thechurchathp.org/event/crop-hunger-walk-2/
LOCATION:The Church at Highland Park\, 5206 Balcones Dri.ve\, Austin\, TX\, 78731\, United States
ATTACH;FMTTYPE=image/png:https://thechurchathp.org/wp-content/uploads/2022/02/Crop-walk-slide-2.png
END:VEVENT
BEGIN:VEVENT
DTSTART;TZID=America/Chicago:20220309T120000
DTEND;TZID=America/Chicago:20220309T130000
DTSTAMP:20260423T195113
CREATED:20220225T204535Z
LAST-MODIFIED:20220225T204917Z
UID:15897-1646827200-1646830800@thechurchathp.org
SUMMARY:A Lenten Study "Reading Between the Lines"
DESCRIPTION:The next S.A.L.T. (Study and Lunch Together) will begin March 9th\, virtual or in person in the library at noon each Wednesday.   The study is titled “Reading Between the Lines.”  This is a lent focused study.
URL:https://thechurchathp.org/event/a-lenten-study-reading-between-the-lines/
LOCATION:Oletha Sapp Library
ATTACH;FMTTYPE=image/png:https://thechurchathp.org/wp-content/uploads/2022/02/Lenten-SALT-Study-Slide-1080-×-1080-px.png
END:VEVENT
BEGIN:VEVENT
DTSTART;TZID=America/Chicago:20220316T120000
DTEND;TZID=America/Chicago:20220316T130000
DTSTAMP:20260423T195113
CREATED:20220225T205738Z
LAST-MODIFIED:20220225T211226Z
UID:15901-1647432000-1647435600@thechurchathp.org
SUMMARY:A Lenten Study - Reading Between the Lines
DESCRIPTION:The  S.A.L.T. (Study and Lunch Together) began March 9th and will be every Wednesday through April 13\, virtual or in person in the library at noon.   The study is titled “Reading Between the Lines.”  This is a lent focused study.
URL:https://thechurchathp.org/event/a-lenten-study-reading-between-the-lines-2/
LOCATION:Oletha Sapp Library
ATTACH;FMTTYPE=image/png:https://thechurchathp.org/wp-content/uploads/2022/02/Lenten-SALT-Study-Slide-1080-×-1080-px.png
END:VEVENT
BEGIN:VEVENT
DTSTART;TZID=America/Chicago:20220319T100000
DTEND;TZID=America/Chicago:20220319T120000
DTSTAMP:20260423T195113
CREATED:20220112T160550Z
LAST-MODIFIED:20220112T160550Z
UID:15772-1647684000-1647691200@thechurchathp.org
SUMMARY:Bluebonnet Chapter\, ANG (American Needlepoint Guild)
DESCRIPTION:Bluebonnet Chapter of the American Needlepoint Guild meets every 3rd Saturday (except December) at The Church @ Highland Park
URL:https://thechurchathp.org/event/bluebonnet-chapter-ang-american-needlepoint-guild-3/
LOCATION:Rm. 225\, 5206 Balcones Drive\, Austin
ATTACH;FMTTYPE=image/png:https://thechurchathp.org/wp-content/uploads/2021/07/Bluebonnet-Chapter-of-the-American-Needlepoint-Guild.png
END:VEVENT
BEGIN:VEVENT
DTSTART;TZID=America/Chicago:20220323T120000
DTEND;TZID=America/Chicago:20220323T130000
DTSTAMP:20260423T195113
CREATED:20220225T210456Z
LAST-MODIFIED:20220225T210456Z
UID:15903-1648036800-1648040400@thechurchathp.org
SUMMARY:A Lenten Study - Reading Between the Lines
DESCRIPTION:The  S.A.L.T. (Study and Lunch Together) began March 9th and will be every Wednesday through April 13\, virtual or in person in the library at noon.   The study is titled “Reading Between the Lines.”  This is a lent focused study.
URL:https://thechurchathp.org/event/a-lenten-study-reading-between-the-lines-3/
LOCATION:Oletha Sapp Library
ATTACH;FMTTYPE=image/png:https://thechurchathp.org/wp-content/uploads/2022/02/Lenten-SALT-Study-Slide-1080-×-1080-px.png
END:VEVENT
BEGIN:VEVENT
DTSTART;TZID=America/Chicago:20220326T080000
DTEND;TZID=America/Chicago:20220326T140000
DTSTAMP:20260423T195113
CREATED:20220322T152940Z
LAST-MODIFIED:20220322T152940Z
UID:15968-1648281600-1648303200@thechurchathp.org
SUMMARY:Pinewood Derby
DESCRIPTION:Pack 55 hosting the Pinewood Derby
URL:https://thechurchathp.org/event/pinewood-derby/
LOCATION:Sapp Hall
ATTACH;FMTTYPE=image/png:https://thechurchathp.org/wp-content/uploads/2022/03/Pack-55-for-website.png
END:VEVENT
BEGIN:VEVENT
DTSTART;VALUE=DATE:20220327
DTEND;VALUE=DATE:20220328
DTSTAMP:20260423T195113
CREATED:20220314T153159Z
LAST-MODIFIED:20220321T142747Z
UID:15936-1648339200-1648425599@thechurchathp.org
SUMMARY:Baby Shower for HP's Nursery
DESCRIPTION:With plenty of children under 2 years old\, our nursery is in serious need of updating! If you would like to donate to the Church @ HP’s nursery\, check out our baby registry at the link below! Donations are welcome starting March 27 at our Spring Cleaning Day. Gift cards to Target are welcome! \nhttps://www.target.com/gift-registry/gift/church-at-hp
URL:https://thechurchathp.org/event/baby-shower-for-hps-nursery/
LOCATION:The Church at Highland Park\, 5206 Balcones Dri.ve\, Austin\, TX\, 78731\, United States
CATEGORIES:Multi-Generational
ATTACH;FMTTYPE=image/png:https://thechurchathp.org/wp-content/uploads/2022/03/Baby-Shower-Template-1920-×-1080-px-1080-×-1080-px.png
END:VEVENT
BEGIN:VEVENT
DTSTART;TZID=America/Chicago:20220330T120000
DTEND;TZID=America/Chicago:20220330T130000
DTSTAMP:20260423T195113
CREATED:20220225T210643Z
LAST-MODIFIED:20220225T211338Z
UID:15905-1648641600-1648645200@thechurchathp.org
SUMMARY:A Lenten Study- Reading Between the Lines
DESCRIPTION:The  S.A.L.T. (Study and Lunch Together) began  March 9th and will be every Wednesday through April 13\, virtual or in person in the library at noon.   The study is titled “Reading Between the Lines.”  This is a lent focused study.
URL:https://thechurchathp.org/event/a-lenten-study-reading-between-the-lines-4/
LOCATION:Oletha Sapp Library
ATTACH;FMTTYPE=image/png:https://thechurchathp.org/wp-content/uploads/2022/02/Lenten-SALT-Study-Slide-1080-×-1080-px.png
END:VEVENT
END:VCALENDAR