BEGIN:VCALENDAR
VERSION:2.0
PRODID:-//The Church @ Highland Park - ECPv6.15.20//NONSGML v1.0//EN
CALSCALE:GREGORIAN
METHOD:PUBLISH
X-ORIGINAL-URL:https://thechurchathp.org
X-WR-CALDESC:Events for The Church @ Highland Park
REFRESH-INTERVAL;VALUE=DURATION:PT1H
X-Robots-Tag:noindex
X-PUBLISHED-TTL:PT1H
BEGIN:VTIMEZONE
TZID:America/Chicago
BEGIN:DAYLIGHT
TZOFFSETFROM:-0600
TZOFFSETTO:-0500
TZNAME:CDT
DTSTART:20220313T080000
END:DAYLIGHT
BEGIN:STANDARD
TZOFFSETFROM:-0500
TZOFFSETTO:-0600
TZNAME:CST
DTSTART:20221106T070000
END:STANDARD
BEGIN:DAYLIGHT
TZOFFSETFROM:-0600
TZOFFSETTO:-0500
TZNAME:CDT
DTSTART:20230312T080000
END:DAYLIGHT
BEGIN:STANDARD
TZOFFSETFROM:-0500
TZOFFSETTO:-0600
TZNAME:CST
DTSTART:20231105T070000
END:STANDARD
BEGIN:DAYLIGHT
TZOFFSETFROM:-0600
TZOFFSETTO:-0500
TZNAME:CDT
DTSTART:20240310T080000
END:DAYLIGHT
BEGIN:STANDARD
TZOFFSETFROM:-0500
TZOFFSETTO:-0600
TZNAME:CST
DTSTART:20241103T070000
END:STANDARD
END:VTIMEZONE
BEGIN:VEVENT
DTSTART;TZID=America/Chicago:20231210T110000
DTEND;TZID=America/Chicago:20231210T120000
DTSTAMP:20260420T123022
CREATED:20230703T193623Z
LAST-MODIFIED:20230703T193623Z
UID:17214-1702206000-1702209600@thechurchathp.org
SUMMARY:Family Sunday
DESCRIPTION:This worship service is geared specifically to youth and children\, based off of a Children’s book.  Fun for all ages!
URL:https://thechurchathp.org/event/family-sunday-2/
LOCATION:Sanctuary\, 5206 Balcones Drive\, Austin\, TX\, 78731
ATTACH;FMTTYPE=image/png:https://thechurchathp.org/wp-content/uploads/2023/07/Copy-of-Copy-of-Family-Sunday.png
END:VEVENT
BEGIN:VEVENT
DTSTART;TZID=America/Chicago:20231210T120000
DTEND;TZID=America/Chicago:20231210T140000
DTSTAMP:20260420T123022
CREATED:20231114T164625Z
LAST-MODIFIED:20231114T164625Z
UID:17523-1702209600-1702216800@thechurchathp.org
SUMMARY:Plum Pudding Festival  - Advent Theme is "Anticipation in the Frenzy: Hope Amidst the Chaos"
DESCRIPTION:December 10th- Join us after worship for a time of celebrating the Christmas season.  Dust off your drums\, ukulele\, accordion\, yuletide carol and dance- basically if you consider it a talent or a kind-of-talent we would love to have you share it with us.  Contact the Church office if you would like to participate.  This is a potluck soup\, chili and dessert lunch.  Welcome to our chaos
URL:https://thechurchathp.org/event/plum-pudding-festival-advent-theme-is-anticipation-in-the-frenzy-hope-amidst-the-chaos/
LOCATION:Sapp Hall
ATTACH;FMTTYPE=image/png:https://thechurchathp.org/wp-content/uploads/2023/11/Plum-pudding.png
END:VEVENT
BEGIN:VEVENT
DTSTART;TZID=America/Chicago:20231224T183000
DTEND;TZID=America/Chicago:20231224T193000
DTSTAMP:20260420T123022
CREATED:20231206T220325Z
LAST-MODIFIED:20231206T220325Z
UID:17556-1703442600-1703446200@thechurchathp.org
SUMMARY:Carols and Candles on Christmas Eve
DESCRIPTION:There will not be a morning service on December 24th but we will be having our tradition packed Carols and Candles Service at 6:30pm.  We do hope you join us.
URL:https://thechurchathp.org/event/carols-and-candles-on-christmas-eve/
LOCATION:Sanctuary\, 5206 Balcones Drive\, Austin\, TX\, 78731
ATTACH;FMTTYPE=image/png:https://thechurchathp.org/wp-content/uploads/2023/12/Copy-of-Christmas-Eve-Party-Instagram-Post-1920-x-1080-px-3.png
END:VEVENT
BEGIN:VEVENT
DTSTART;VALUE=DATE:20231231
DTEND;VALUE=DATE:20240101
DTSTAMP:20260420T123022
CREATED:20231226T202516Z
LAST-MODIFIED:20231226T202516Z
UID:17593-1703980800-1704067199@thechurchathp.org
SUMMARY:No In-Person Worship on Dec 31.
DESCRIPTION:The Church at Highland Park will be taking a Sabbath Sunday on December 31\, 2023. We will not have worship or Sunday School in person. We do encourage you to tune into Facebook or YouTube to see a message from Rev. Cheryl Kimble and Rev. Masyn Evans-Clements.
URL:https://thechurchathp.org/event/no-in-person-worship-on-dec-31/
LOCATION:The Church at Highland Park\, 5206 Balcones Dri.ve\, Austin\, TX\, 78731\, United States
ATTACH;FMTTYPE=image/png:https://thechurchathp.org/wp-content/uploads/2023/12/No-church-on-NYE-Slide-3.png
END:VEVENT
END:VCALENDAR