BEGIN:VCALENDAR
VERSION:2.0
PRODID:-//The Church @ Highland Park - ECPv6.15.20//NONSGML v1.0//EN
CALSCALE:GREGORIAN
METHOD:PUBLISH
X-ORIGINAL-URL:https://thechurchathp.org
X-WR-CALDESC:Events for The Church @ Highland Park
REFRESH-INTERVAL;VALUE=DURATION:PT1H
X-Robots-Tag:noindex
X-PUBLISHED-TTL:PT1H
BEGIN:VTIMEZONE
TZID:America/Chicago
BEGIN:DAYLIGHT
TZOFFSETFROM:-0600
TZOFFSETTO:-0500
TZNAME:CDT
DTSTART:20230312T080000
END:DAYLIGHT
BEGIN:STANDARD
TZOFFSETFROM:-0500
TZOFFSETTO:-0600
TZNAME:CST
DTSTART:20231105T070000
END:STANDARD
BEGIN:DAYLIGHT
TZOFFSETFROM:-0600
TZOFFSETTO:-0500
TZNAME:CDT
DTSTART:20240310T080000
END:DAYLIGHT
BEGIN:STANDARD
TZOFFSETFROM:-0500
TZOFFSETTO:-0600
TZNAME:CST
DTSTART:20241103T070000
END:STANDARD
BEGIN:DAYLIGHT
TZOFFSETFROM:-0600
TZOFFSETTO:-0500
TZNAME:CDT
DTSTART:20250309T080000
END:DAYLIGHT
BEGIN:STANDARD
TZOFFSETFROM:-0500
TZOFFSETTO:-0600
TZNAME:CST
DTSTART:20251102T070000
END:STANDARD
END:VTIMEZONE
BEGIN:VEVENT
DTSTART;TZID=America/Chicago:20240204T130000
DTEND;TZID=America/Chicago:20240204T140000
DTSTAMP:20260420T093222
CREATED:20240126T160028Z
LAST-MODIFIED:20240126T160028Z
UID:17682-1707051600-1707055200@thechurchathp.org
SUMMARY:SWEETT for Youth and Children
DESCRIPTION:SWEETT will be February 4.  Children and Youth will load up after worship to picnic and play at the Highland Park Elementary School Playground.  If weather does not permit\, the play will move to Sapp Hall. A sandwich lunch will be provided. Pickup time is 2pm back at the Church.
URL:https://thechurchathp.org/event/sweett-for-youth-and-children/
LOCATION:TX
ATTACH;FMTTYPE=image/png:https://thechurchathp.org/wp-content/uploads/2024/01/SWEETT-Header-4.png
END:VEVENT
BEGIN:VEVENT
DTSTART;TZID=America/Chicago:20240211T100000
DTEND;TZID=America/Chicago:20240211T110000
DTSTAMP:20260420T093222
CREATED:20240126T154802Z
LAST-MODIFIED:20240126T155004Z
UID:17675-1707645600-1707649200@thechurchathp.org
SUMMARY:Java for Jesus
DESCRIPTION:Our Youth will be heading Camp this summer and they are raising funds to help offset the cost of camp. Our youth will be in the atrium on the second Sunday of each month serving coffee for tips!  Every cent raised will go to youth camp fees.  There will be special flavors and creamers\, so skip your morning coffee and allow a youth to prepare it for you.
URL:https://thechurchathp.org/event/java-for-jesus/
LOCATION:The Church at Highland Park\, 5206 Balcones Dri.ve\, Austin\, TX\, 78731\, United States
ATTACH;FMTTYPE=image/png:https://thechurchathp.org/wp-content/uploads/2024/01/Java-for-Jesus-slide-3.png
END:VEVENT
BEGIN:VEVENT
DTSTART;TZID=America/Chicago:20240211T110000
DTEND;TZID=America/Chicago:20240211T120000
DTSTAMP:20260420T093222
CREATED:20240126T161337Z
LAST-MODIFIED:20240126T161337Z
UID:17684-1707649200-1707652800@thechurchathp.org
SUMMARY:Scout Sunday
DESCRIPTION:Scout Sunday will be February 11th.  Please join us for this special service that includes all the Scouts that The Church at Highland Park sponsors.
URL:https://thechurchathp.org/event/scout-sunday-2/
LOCATION:Sanctuary\, 5206 Balcones Drive\, Austin\, TX\, 78731
ATTACH;FMTTYPE=image/jpeg:https://thechurchathp.org/wp-content/uploads/2022/03/Scout-Sunday.jpg
END:VEVENT
BEGIN:VEVENT
DTSTART;TZID=America/Chicago:20240214T120000
DTEND;TZID=America/Chicago:20240214T130000
DTSTAMP:20260420T093222
CREATED:20240130T202712Z
LAST-MODIFIED:20240201T201503Z
UID:17702-1707912000-1707915600@thechurchathp.org
SUMMARY:Ash Wednesday Service
DESCRIPTION:Ash Wednesday Service is at noon.
URL:https://thechurchathp.org/event/ash-wednesday-service-2/
LOCATION:Teague Chapel
ATTACH;FMTTYPE=image/png:https://thechurchathp.org/wp-content/uploads/2024/01/Ash-Wednesday-2.png
END:VEVENT
BEGIN:VEVENT
DTSTART;TZID=America/Chicago:20240217T120000
DTEND;TZID=America/Chicago:20240217T170000
DTSTAMP:20260420T093222
CREATED:20240130T202511Z
LAST-MODIFIED:20240130T202511Z
UID:17700-1708171200-1708189200@thechurchathp.org
SUMMARY:Micah 6 Drop-In Meal
DESCRIPTION:Volunteers from the Church will be cooking and taking a hot meal down to the Micah 6 Drop-In Center. Contact the Church office if you would like to participate.
URL:https://thechurchathp.org/event/micah-6-drop-in-meal-4/
LOCATION:The Church at Highland Park\, 5206 Balcones Dri.ve\, Austin\, TX\, 78731\, United States
ATTACH;FMTTYPE=image/png:https://thechurchathp.org/wp-content/uploads/2024/01/Copy-of-Copy-of-Micah-6-Meal-7.png
END:VEVENT
BEGIN:VEVENT
DTSTART;TZID=America/Chicago:20240218T120000
DTEND;TZID=America/Chicago:20240218T130000
DTSTAMP:20260420T093222
CREATED:20240126T155620Z
LAST-MODIFIED:20240126T155620Z
UID:17680-1708257600-1708261200@thechurchathp.org
SUMMARY:Youth sponsored Spaghetti Luncheon
DESCRIPTION:The youth and parents are sponsoring a spaghetti luncheon on February 18th after worship. Youth Camp is rather expensive and fundraising will help all the youth offset some of the expenses.  Ticket sales begin February 4.
URL:https://thechurchathp.org/event/youth-sponsored-spaghetti-luncheon/
LOCATION:Sapp Hall
ATTACH;FMTTYPE=image/png:https://thechurchathp.org/wp-content/uploads/2024/01/Spaghetti-Lunch-Slide-1.png
END:VEVENT
BEGIN:VEVENT
DTSTART;TZID=America/Chicago:20240225T133000
DTEND;TZID=America/Chicago:20240225T150000
DTSTAMP:20260420T093222
CREATED:20240130T201956Z
LAST-MODIFIED:20240130T201956Z
UID:17697-1708867800-1708873200@thechurchathp.org
SUMMARY:Crop Walk
DESCRIPTION:Austin Crop Hunger Walk is February 25 at Camp Mabry.  Walkers will gather at 1:30 for activities and the walk begins at 2:30PM. Join our team of walkers and raise money or make a contribution to one of the team members.
URL:https://thechurchathp.org/event/crop-walk/
LOCATION:Camp Mabry
ATTACH;FMTTYPE=image/jpeg:https://thechurchathp.org/wp-content/uploads/2024/01/Untitled-design-7.jpg
END:VEVENT
END:VCALENDAR