BEGIN:VCALENDAR
VERSION:2.0
PRODID:-//The Church @ Highland Park - ECPv6.15.20//NONSGML v1.0//EN
CALSCALE:GREGORIAN
METHOD:PUBLISH
X-WR-CALNAME:The Church @ Highland Park
X-ORIGINAL-URL:https://thechurchathp.org
X-WR-CALDESC:Events for The Church @ Highland Park
REFRESH-INTERVAL;VALUE=DURATION:PT1H
X-Robots-Tag:noindex
X-PUBLISHED-TTL:PT1H
BEGIN:VTIMEZONE
TZID:America/Chicago
BEGIN:DAYLIGHT
TZOFFSETFROM:-0600
TZOFFSETTO:-0500
TZNAME:CDT
DTSTART:20230312T080000
END:DAYLIGHT
BEGIN:STANDARD
TZOFFSETFROM:-0500
TZOFFSETTO:-0600
TZNAME:CST
DTSTART:20231105T070000
END:STANDARD
BEGIN:DAYLIGHT
TZOFFSETFROM:-0600
TZOFFSETTO:-0500
TZNAME:CDT
DTSTART:20240310T080000
END:DAYLIGHT
BEGIN:STANDARD
TZOFFSETFROM:-0500
TZOFFSETTO:-0600
TZNAME:CST
DTSTART:20241103T070000
END:STANDARD
BEGIN:DAYLIGHT
TZOFFSETFROM:-0600
TZOFFSETTO:-0500
TZNAME:CDT
DTSTART:20250309T080000
END:DAYLIGHT
BEGIN:STANDARD
TZOFFSETFROM:-0500
TZOFFSETTO:-0600
TZNAME:CST
DTSTART:20251102T070000
END:STANDARD
END:VTIMEZONE
BEGIN:VEVENT
DTSTART;TZID=America/Chicago:20240505T110000
DTEND;TZID=America/Chicago:20240505T120000
DTSTAMP:20260420T044512
CREATED:20240126T161623Z
LAST-MODIFIED:20240126T161623Z
UID:17685-1714906800-1714910400@thechurchathp.org
SUMMARY:Senior Sunday
DESCRIPTION:Graduates will be recognized during the worship service.
URL:https://thechurchathp.org/event/senior-sunday/
LOCATION:Sanctuary\, 5206 Balcones Drive\, Austin\, TX\, 78731
ATTACH;FMTTYPE=image/png:https://thechurchathp.org/wp-content/uploads/2024/01/Copy-of-Senior-Sunday-Invite.png
END:VEVENT
BEGIN:VEVENT
DTSTART;TZID=America/Chicago:20240512T100000
DTEND;TZID=America/Chicago:20240512T110000
DTSTAMP:20260420T044512
CREATED:20240126T155143Z
LAST-MODIFIED:20240126T155143Z
UID:17679-1715508000-1715511600@thechurchathp.org
SUMMARY:Java for Jesus
DESCRIPTION:Our Youth will be heading Camp this summer and they are raising funds to help offset the cost of camp. Our youth will be in the atrium on the second Sunday of each month serving coffee for tips!  Every cent raised will go to youth camp fees.  There will be special flavors and creamers\, so skip your morning coffee and allow a youth to prepare it for you.
URL:https://thechurchathp.org/event/java-for-jesus-4/
LOCATION:The Church at Highland Park\, 5206 Balcones Dri.ve\, Austin\, TX\, 78731\, United States
ATTACH;FMTTYPE=image/png:https://thechurchathp.org/wp-content/uploads/2024/01/Java-for-Jesus-slide-3.png
END:VEVENT
END:VCALENDAR